BEGIN:VCALENDAR
VERSION:2.0
PRODID:-//ChamberMaster//Event Calendar 2.0//EN
METHOD:PUBLISH
X-PUBLISHED-TTL:P3D
REFRESH-INTERVAL:P3D
CALSCALE:GREGORIAN
BEGIN:VEVENT
DTSTART:20260618T210000Z
DTEND:20260619T000000Z
X-MICROSOFT-CDO-ALLDAYEVENT:FALSE
SUMMARY:Amrit Food & Wine Showcase
DESCRIPTION:Amrit Ocean Resort is pleased to debut its inaugural Amrit Food & Wine Showcase on Thursday\, June 18\, inviting guests to experience an elevated evening of progressive dining across the resort's signature restaurant venues.\n\n \n\nBeginning at 5 p.m.\, guests will travel through LaLa\, Tula\, AYRE by Karma\, Jeevi\, and Taaza\, while savoring chef-curated tastings at each stop. VIP admission includes early access at 4 p.m.\, featuring a private pre-event cocktail reception\, exclusive lounge privileges\, and a post-event nightcap experience.\n\n \n\nThe evening will highlight collaborative\, chef-driven menus\, featuring specialty dishes by Amrit's Chefs Craig Tooker and Oscar Balbuena\, as well as AYRE by Karma's Chef Syed Asif\, a James Beard featured chef and a Beat Bobby Flay alum. Culinary offerings will be paired with curated wine and handcrafted cocktails. Entertainment will enhance the journey with live music DJ performances. \n\n \n\nA portion of ticket sales will benefit Loggerhead Marinelife Center\, supporting the nonprofit's local conservation initiatives.\n\n \n\nTickets are available in three tiers: General Admission (Food) at $125 per person\, General Admission (Food and Wine) at $200 per person\, and VIP All Access at $275 per person.\n\n \n\nPurchase tickets HERE.  \n\n \n\nFor more information\, visit Amrit Ocean Resort or call (844) 692-6748. Complimentary valet.\n\n \n\nAmrit Ocean Resort is located at 3100 N. Ocean Drive\, Riviera Beach\, Florida.
X-ALT-DESC;FMTTYPE=text/html:<a href="https://www.amritocean.com/dine/?gad_source=1&amp\;gad_campaignid=23387299897&amp\;gbraid=0AAAAAq3AdQ-7XAxAasPE4XV5_xhteTrlp&amp\;gclid=CjwKCAjwyYPOBhBxEiwAgpT8P2Xhk_AmxOIQo8PB8UqejCa4VH9it097Cou7CXEDo5K7S7sJP25OABoCk1kQAvD_BwE"><span style="color:black">Amrit Ocean Resort</span></a><span style="font-family:aptos\,sans-serif"> is pleased to </span>debut its inaugural Amrit Food &amp\; Wine Showcase on Thursday\, June 18\, inviting guests to experience an elevated evening of progressive dining across the resort&rsquo\;s signature restaurant venues.<br />\n&nbsp\;<br />\nBeginning at 5 p.m.\, guests will travel through LaLa\, Tula\, AYRE by Karma\, Jeevi\, and Taaza\, while savoring chef-curated tastings at each stop. VIP admission includes early access at 4 p.m.\, featuring a private pre-event cocktail reception\, exclusive lounge privileges\, and a post-event nightcap experience.<br />\n&nbsp\;<br />\nThe evening will highlight collaborative\, chef-driven menus\, featuring specialty dishes by Amrit&rsquo\;s Chefs Craig Tooker and Oscar Balbuena\, as well as AYRE by Karma&rsquo\;s Chef Syed Asif\, a James Beard featured chef and a <em>Beat Bobby Flay</em> alum. Culinary offerings will be paired with curated wine and handcrafted cocktails. Entertainment will enhance the journey with live music DJ performances.&nbsp\;<br />\n&nbsp\;<br />\nA portion of ticket sales will benefit <a href="https://marinelife.org/"><span style="color:black">Loggerhead Marinelife Center</span></a>\, supporting the nonprofit&rsquo\;s local conservation initiatives.<br />\n&nbsp\;<br />\nTickets are available in three tiers: General Admission (Food) at $125 per person\, General Admission (Food and Wine) at $200 per person\, and VIP All Access at $275 per person.<br />\n&nbsp\;<br />\nPurchase tickets <a href="https://www.amritocean.com/experience/#!/collection/019d54b7-bc1f-73fe-aada-74f47f506403?date=2026-06-18"><span style="color:black">HERE</span></a>.&nbsp\;&nbsp\;<br />\n&nbsp\;<br />\nFor more information\, visit <a href="https://www.amritocean.com/"><span style="color:black">Amrit Ocean Resort</span></a> or call (844) 692-6748. Complimentary valet.<br />\n&nbsp\;<br />\nAmrit Ocean Resort is located at 3100 N. Ocean Drive\, Riviera Beach\, Florida.
LOCATION:
UID:e.727.59126
SEQUENCE:3
DTSTAMP:20260421T101037Z
URL:https://members.pbnchamber.com/events/details/amrit-food-wine-showcase-59126
END:VEVENT

END:VCALENDAR
