BEGIN:VCALENDAR
VERSION:2.0
PRODID:-//ChamberMaster//Event Calendar 2.0//EN
METHOD:PUBLISH
X-PUBLISHED-TTL:P3D
REFRESH-INTERVAL:P3D
CALSCALE:GREGORIAN
BEGIN:VEVENT
DTSTART;VALUE=DATE:20210213
DTEND;VALUE=DATE:20210215
TRANSP:TRANSPARENT
X-MICROSOFT-CDO-ALLDAYEVENT:TRUE
SUMMARY:ArtiGras Fine Arts Festival\, presented by the Hanley Foundation
DESCRIPTION:ArtiGras Fine Arts Festival\, presented by the Hanley Foundation\, is the premier fine art festival of the Palm Beaches. Ranked as #24 out of the top 100 art shows in the United States\, ArtiGras showcases a unique juried exhibition of 300 fine artists from all over the country and draws tens of thousands of patrons. The two-day event also features interactive art exhibits\, live music\, children's interactive art activities\, food and drink\, and demonstrations that provide an arts experience like no other in South Florida. ArtiGras 2019 was named the 10th Best Fine Art & Design Show in the Nation by Sunshine Artist Magazine. ArtiGras benefits over 60 school art programs and non-profit organizations.\n\n\n\nVisit www.artigras.org for more information\, volunteer opportunities and much more!\n\n\n\nCLICK HERE FOR SPONSORSHIP PACKET\n\n\n\nVOLUNTEERS NEEDED\n\nWe rely heavily on our volunteers to make the ArtiGras Fine Arts Festival run smoothly. There are various roles and shifts available throughout the 2-day event taking place February 13 - 14\, 2021\, including ArtiKids Zone\, Merchandise\, Volunteer Headquarters\, Youth Art Competition\, and more! Click the link below to learn more about some of the different areas of the festival in which you can volunteer and make a difference. Volunteer hours are available for those seeking school credit. In addition\, volunteers are welcome to stay inside the festival before and/or after their shifts to enjoy ArtiGras!
X-ALT-DESC;FMTTYPE=text/html:<span style="color:#000000\;"><span style="font-size: 14px\;"><span style="font-family: arial\;">ArtiGras Fine Arts Festival\, presented by the Hanley Foundation\, is the premier fine art festival of the Palm Beaches. Ranked as #24 out of the top 100 art shows in the United States\, ArtiGras showcases a unique juried exhibition of 300 fine artists from all over the country and draws tens of thousands of patrons. The two-day event also features interactive art exhibits\, live music\, children&#39\;s interactive art activities\, food and drink\, and demonstrations that provide an arts experience like no other in South Florida. </span></span><span style="font-family: Helvetica\, Arial\, sans-serif\; font-size: 14px\;">ArtiGras 2019 was named the 10th Best Fine Art &amp\; Design Show in the Nation by Sunshine Artist Magazine</span></span><span style="font-size: 14px\;"><span style="font-family: arial\;"><span style="color:#000000\;">. ArtiGras benefits over 60 school art programs and non-profit organizations.</span></span></span><br />\n<br />\n<span style="font-size: 14px\;"><span style="font-family: arial\;"><span style="text-align: center\;">Visit <a href="http://artigras.org">www.artigras.org</a> for more information\, volunteer opportunities and much more!<br />\n<br />\n<a href="http://www.artigras.org/become-a-sponsor/"><u><strong>CLICK HERE FOR SPONSORSHIP PACKET</strong></u></a></span></span></span><br />\n<br />\n<span style="font-size: 14px\;"><span style="font-family: arial\;"><span style="text-align: center\;"><strong>VOLUNTEERS NEEDED</strong></span><br />\nWe rely heavily on our volunteers to make the ArtiGras Fine Arts Festival run smoothly. There are various roles and shifts available throughout the 2-day event taking place February 13 - 14\, 2021\, including&nbsp\;ArtiKids Zone\, Merchandise\, Volunteer Headquarters\, Youth Art Competition\, and more! Click the link below<span color="#000000">&nbsp\;to learn more about some of the different areas of the </span>festival<span color="#000000">&nbsp\;in which you can volunteer&nbsp\;and make a difference.&nbsp\;Volunteer hours are available&nbsp\;for those seeking school credit. In addition\, volunteers are welcome to stay inside the festival before and/or after their&nbsp\;shifts to enjoy ArtiGras!</span><span style="color: black\;"><span color="#000000">&nbsp\;</span></span></span></span>
LOCATION:Gardens North County District Park 117th Ct N Palm Beach Gardens\, FL 33418 Click for directions
UID:e.727.28443
SEQUENCE:3
DTSTAMP:20260423T040940Z
URL:https://members.pbnchamber.com/events/details/artigras-fine-arts-festival-presented-by-the-hanley-foundation-28443
END:VEVENT

END:VCALENDAR
