BEGIN:VCALENDAR
VERSION:2.0
PRODID:-//ChamberMaster//Event Calendar 2.0//EN
METHOD:PUBLISH
X-PUBLISHED-TTL:P3D
REFRESH-INTERVAL:P3D
CALSCALE:GREGORIAN
BEGIN:VEVENT
DTSTART:20150808T200000Z
DTEND:20150809T020000Z
X-MICROSOFT-CDO-ALLDAYEVENT:FALSE
SUMMARY:Back to School Night at Roger Dean Stadium
DESCRIPTION:The first 500 kids 15 and under will receive a complimentary backpack as they walk through the gates. Plus\, visit with several vendor booths along our concourse to fill those backpacks with much-needed school supplies. This is the best way to prepare for the upcoming 2015-2016 school year! We will also have several back-to-school related promotions all night long. Presented by the Jupiter Courier\, Bank of America\, Florida Health-Palm Beach County\, Palm Beach Gardens Medical Center and Palm Beach Children's Hospital.
X-ALT-DESC;FMTTYPE=text/html:The first 500 kids 15 and under will receive a complimentary backpack as they walk through the gates. Plus\, visit with several vendor booths along our concourse to fill those backpacks with much-needed school supplies. This is the best way to prepare for the upcoming 2015-2016 school year! We will also have several back-to-school related promotions all night long. Presented by the Jupiter Courier\, Bank of America\, Florida Health-Palm Beach County\, Palm Beach Gardens Medical Center and Palm Beach Children&#39\;s Hospital.
LOCATION:Roger Dean Stadium 4751 Main Street Jupiter\, FL\, 33458
UID:e.727.7602
SEQUENCE:3
DTSTAMP:20260423T134751Z
URL:https://members.pbnchamber.com/events/details/back-to-school-night-at-roger-dean-stadium-08-08-2015-7602
END:VEVENT

END:VCALENDAR
