BEGIN:VCALENDAR
VERSION:2.0
PRODID:-//ChamberMaster//Event Calendar 2.0//EN
METHOD:PUBLISH
X-PUBLISHED-TTL:P3D
REFRESH-INTERVAL:P3D
CALSCALE:GREGORIAN
BEGIN:VEVENT
DTSTART:20150905T120000Z
DTEND:20150905T140000Z
X-MICROSOFT-CDO-ALLDAYEVENT:FALSE
SUMMARY:Beach Cleanup
DESCRIPTION:Join us at 8:00 AM at Ocean Cay Park located at 2188 Marcinski Drive (corner of US One and Marcinski Drive). We go out in groups with a team captin and clean the beach.  When the teams come back around 9:15 we have the besy breakfast on the beach consisting of Joan's home baked goods\, Einstein Bros. Bagels\,fruit\, and Dunkin Donuts coffee and munchkins.  Next a short program to thank our sponsors an then our fabulous raflle prizes.  Community service hours provided.
X-ALT-DESC;FMTTYPE=text/html:Join us at 8:00 AM at Ocean Cay Park located at 2188 Marcinski Drive (corner of US One and Marcinski Drive). We go out in groups with a team captin and clean the beach. &nbsp\;When the teams come back around 9:15 we have the besy breakfast on the beach consisting of Joan&#39\;s home baked goods\, Einstein Bros. Bagels\,fruit\, and Dunkin Donuts coffee and munchkins. &nbsp\;Next a short program to thank our sponsors an then our fabulous raflle prizes. &nbsp\;Community service hours provided.
LOCATION:Ocean Cay Park
UID:e.727.6882
SEQUENCE:3
DTSTAMP:20260422T165532Z
URL:https://members.pbnchamber.com/events/details/beach-cleanup-09-05-2015-6882
END:VEVENT

END:VCALENDAR
