BEGIN:VCALENDAR
VERSION:2.0
PRODID:-//ChamberMaster//Event Calendar 2.0//EN
METHOD:PUBLISH
X-PUBLISHED-TTL:P3D
REFRESH-INTERVAL:P3D
CALSCALE:GREGORIAN
BEGIN:VEVENT
DTSTART:20260430T200000Z
DTEND:20260430T230000Z
X-MICROSOFT-CDO-ALLDAYEVENT:FALSE
SUMMARY:Blood Cancer United Happy Hour at 123 Datura Kitchen
DESCRIPTION:I am holding a fundraiser happy hour networking event at 123 Datura next Thursday\, April 30th from 4-7pm.  I am the visionary of the year for LLS and 25% of all sales during that time will go to the fundraiser.  It should be a fun event to get people together for a happy hour and for a great cause!  Would appreciate as much support as possible.
X-ALT-DESC;FMTTYPE=text/html:I am holding a fundraiser happy hour networking event at 123 Datura next Thursday\, April 30th from 4-7pm.&nbsp\; I am the visionary of the year for LLS and 25% of all sales during that time will go to the fundraiser.&nbsp\; It should be a fun event to get people together for a happy hour and for a great cause!&nbsp\; Would appreciate as much support as possible.
LOCATION:123 Datura Street West Palm Beach\, FL 33401
UID:e.727.59135
SEQUENCE:3
DTSTAMP:20260424T200958Z
URL:https://members.pbnchamber.com/events/details/blood-cancer-united-happy-hour-at-123-datura-kitchen-59135
END:VEVENT

END:VCALENDAR
