BEGIN:VCALENDAR
VERSION:2.0
PRODID:-//ChamberMaster//Event Calendar 2.0//EN
METHOD:PUBLISH
X-PUBLISHED-TTL:P3D
REFRESH-INTERVAL:P3D
CALSCALE:GREGORIAN
BEGIN:VEVENT
DTSTART:20170322T110000Z
DTEND:20170322T130000Z
X-MICROSOFT-CDO-ALLDAYEVENT:FALSE
SUMMARY:Business Before Hours: Innovations in Transportation & Smart Cities
DESCRIPTION:Pre-registration is now closed for this event. Walk ins will be accepted based on availability.\n\n\n\nJoin the Palm Beach North Chamber of Commerce for our monthly breakfast on Wednesday\, March 22\, 2017 at the Riviera Beach Marina Event Center.  \nTechnology is transforming our world! This panel discussion will inform participants on the advances in technology that are reshaping transportation and our urban centers. Our expert panel will discuss how the adoption of next generation transportation technology will improve safety and revolutionize how people and goods move. The panel will also discuss how evolving communication technology and the internet of things (IOT) will transform cities improving quality of life and sustainability. Topics that will be discussed include autonomous vehicles\, connected infrastructure\, ?big data?\, sustainability\, and other Smart City concepts.\n\n\n\nFeaturing a special message from Senator Jeff Brandes\, Chair\, Florida Senate Appropriations Subcommittee for Transportation\, Tourism and Economic Development.\n\n\n\nPanel Participants:\n\n\n	Beth Kigel (moderator)\, Florida Transportation Commissioner and President & CEO\, Palm Beach North Chamber of Commerce \n	Paul Steinman\, Secretary\, Florida Department of Transportation District 7\n	Michael Shannon\, Director of Transportation Development\, Florida?s Turnpike Enterprise (Central Florida Automated Vehicle Partnership)\n	Cesar Fernandez\, Sr. Public Affairs Associate\, Uber  Florida\n	 Jim Barbaresso\, Senior Vice President and Practice Leader\, Intelligent Transportation Systems\, HNTB\n\n\n \n\n\n\nDemonstrations INCLUDE:\n\n\n	Tesla\n	UCF Autonomous Vehicle Simulator\n	Embry Riddle Autonomous Vehicle  \n	WGI Mobile LiDAR\n	Radise Smart Structures
X-ALT-DESC;FMTTYPE=text/html:<u style="color: rgb(255\, 0\, 0)\; font-size: 14px\;"><strong>Pre-registration is now closed for this event. Walk ins will be accepted based on availability.</strong></u><br />\n<br />\n<span style="font-size:14px\;">Join the Palm Beach North Chamber of Commerce for our monthly breakfast&nbsp\;on&nbsp\;<span style="line-height: 20.8px\; background-color: rgb(255\, 255\, 255)\;">Wednesday</span><span style="line-height: 20.8px\; background-color: rgb(255\, 255\, 255)\;">\, March 22\, 2017</span>&nbsp\;at the Riviera Beach Marina Event Center. &nbsp\;</span>\n<p><span style="font-size:14px\;"><span style="font-family:arial\;">Technology is transforming our world!&nbsp\;This panel discussion will inform participants on the advances in technology that are reshaping transportation and our urban centers. Our expert panel will discuss how the adoption of next generation transportation technology will improve safety and revolutionize how people and goods move.&nbsp\;The panel will also discuss how evolving communication technology and the internet of things (IOT) will transform cities improving quality of life and sustainability.&nbsp\;Topics that will be discussed include autonomous vehicles\, connected infrastructure\, ?big data?\, sustainability\, and other Smart City concepts.</span></span><br />\n<br />\n<span style="font-family: arial\; font-size: 14px\;">Featuring a&nbsp\;special message from&nbsp\;</span><span style="font-family: arial\; font-size: 14px\; font-weight: bold\;">Senator Jeff&nbsp\;Brandes</span><span style="font-family: arial\; font-size: 14px\;">\, Chair\, Florida Senate Appropriations Subcommittee for Transportation\, Tourism and Economic Development.</span><br />\n<br />\n<span style="font-size:14px\;"><span style="font-family:arial\;"><span style="font-weight:bold\;text-transform:uppercase\;language:en-US\;">Panel Participants:</span></span></span></p>\n\n<ul>\n	<li><span style="font-size:14px\;"><span style="font-family:arial\;"><span style="font-weight:bold\;language:en-US\;">Beth Kigel </span>(moderator)\, Florida Transportation Commissioner and President &amp\;&nbsp\;CEO\, Palm Beach North Chamber of Commerce </span></span></li>\n	<li><span style="font-size: 14px\;"><span style="font-family: arial\;"><span style="font-weight: bold\;">Paul&nbsp\;Steinman</span>\, Secretary\, Florida Department of Transportation District 7</span></span></li>\n	<li><span style="font-size:14px\;"><span style="font-family:arial\;"><span style="font-size:14px\;"><span style="font-family:arial\;"><span style="font-weight:bold\;language:en-US\;">Michael Shannon\, </span>Director of Transportation Development\, Florida?s Turnpike Enterprise </span></span>(Central Florida Automated Vehicle Partnership)</span></span></li>\n	<li><span style="font-size: 14px\;"><span style="font-family: arial\;"><span style="font-size:14px\;"><span style="font-family:arial\;"><span style="font-size:14px\;"><span style="font-family:arial\;"><span style="font-weight:bold\;language:en-US\;">Cesar Fernandez</span>\, Sr. Public Affairs Associate\, Uber&#8203\; Florida</span></span></span></span></span></span></li>\n	<li><span style="font-size:14px\;"><span style="font-family:arial\;">&#8203\;<span style="font-size:14px\;"><span style="font-family:arial\;"><span style="font-weight:bold\;language:en-US\;">Jim Barbaresso</span>\, Senior Vice President and Practice Leader\, Intelligent Transportation Systems\, HNTB</span></span></span></span></li>\n</ul>\n\n<p>&nbsp\;<br />\n<br />\n<span style="font-size:14px\;"><span style="font-family:arial\;"><span style="font-weight:bold\;text-transform:uppercase\;language:en-US\;">Demonstrations INCLUDE:</span></span></span></p>\n\n<ul>\n	<li>Tesla</li>\n	<li>UCF <span style="font-size:12px\;">Autonomous Vehicle Simulator</span></li>\n	<li>Embry Riddle Autonomous Vehicle &nbsp\;</li>\n	<li>WGI Mobile LiDAR</li>\n	<li>Radise&nbsp\;Smart Structures</li>\n</ul>\n&nbsp\;
LOCATION:Riviera Beach Marina Event Center 190 E. 13th Street Riviera Beach FL 33404
UID:e.727.13471
SEQUENCE:3
DTSTAMP:20260423T200656Z
URL:https://members.pbnchamber.com/events/details/business-before-hours-innovations-in-transportation-smart-cities-13471
END:VEVENT

END:VCALENDAR
