BEGIN:VCALENDAR
VERSION:2.0
PRODID:-//ChamberMaster//Event Calendar 2.0//EN
METHOD:PUBLISH
X-PUBLISHED-TTL:P3D
REFRESH-INTERVAL:P3D
CALSCALE:GREGORIAN
BEGIN:VEVENT
DTSTART:20190417T111500Z
DTEND:20190417T130000Z
X-MICROSOFT-CDO-ALLDAYEVENT:FALSE
SUMMARY:Business Before Hours: Valor and Community Service Awards for Palm Beach North First Responders
DESCRIPTION:Join us for the 2nd Annual Palm Beach North Valor and Community Service Awards to be given to First Responder honorees within Palm Beach North. The selected awards recipients will be honored at the breakfast reception to be held on Wednesday\, April 17\, 2019 at Eissey Campus Theater at Palm Beach State College.\n\n\n\n\n\nThe Valor Award will be awarded to first responders who demonstrates exceptional courage above and beyond the call of duty\, regardless of personal safety\, in order to save another person's life or protect them from harm. \n\n\n\nThe Community Service Award will be awarded to first responders who have given back to their community by unselfishly volunteering their time to a non-profit agency\, organization\, community group or project that benefits the community within the boundaries of Palm Beach North.
X-ALT-DESC;FMTTYPE=text/html:<div><span style="font-size: 14px\;"><span style="font-family: arial\;">Join us for the <strong>2nd Annual Palm Beach North&nbsp\;<span class="currentHitHighlight" id="0.5167217094501735" name="searchHitInReadingPane">Valor</span>&nbsp\;<span class="highlight" id="0.022425434938439626" name="searchHitInReadingPane">and</span>&nbsp\;<span class="highlight" id="0.46662954430784986" name="searchHitInReadingPane">Community</span>&nbsp\;Service Awards to be given to First Responder honorees within Palm Beach North</strong>.&nbsp\;The selected awards recipients will be honored at the&nbsp\;breakfast </span></span><span style="font-family: arial\; font-size: 14px\;">reception&nbsp\;</span><span style="font-size: 14px\;"><span style="font-family: arial\;">to be held on Wednesday\, April 17\, 2019 at </span></span><strong style="font-family: arial\; font-size: 14px\;"><span style="text-align: center\;">Eissey Campus Theater at&nbsp\;</span></strong><strong style="font-family: arial\; font-size: 14px\;"><span style="text-align: center\;">Palm Beach State College</span></strong><span style="font-size: 14px\;"><span style="font-family: arial\;">.<br />\n<br />\n<br />\n<strong>The Valor Award&nbsp\;</strong>will be awarded to&nbsp\;</span></span><span style="font-family: calibri\, sans-serif\;"><span style="font-size: 12pt\;"><span style="font-size: 14px\;"><span style="font-family: arial\;">first responders who demonstrates exceptional courage above and beyond the call of duty\, regardless of personal safety\, in order to save another person&#39\;s life or protect them from harm.&nbsp\;</span></span></span></span><br />\n<br />\n<span style="font-family: calibri\, sans-serif\;"><span style="font-size: 12pt\;"><span style="font-size: 14px\;"><span style="font-family: arial\;"><strong>The Community Service Award</strong>&nbsp\;will be awarded&nbsp\;</span></span></span></span><span style="font-size: 14px\;"><span style="font-family: arial\;"><span style="text-align: justify\;">to first responders who have given back to their community by unselfishly volunteering their time to a non-profit agency\, organization\, community group or project that benefits the community within the boundaries of Palm Beach North.</span></span></span></div>\n
LOCATION:Eissey Campus Theater at Palm Beach State College 11051 Campus Drive Palm Beach Gardens\, FL 33410
UID:e.727.22763
SEQUENCE:3
DTSTAMP:20260423T033020Z
URL:https://members.pbnchamber.com/events/details/business-before-hours-valor-and-community-service-awards-for-palm-beach-north-first-responders-22763
END:VEVENT

END:VCALENDAR
