BEGIN:VCALENDAR
VERSION:2.0
PRODID:-//ChamberMaster//Event Calendar 2.0//EN
METHOD:PUBLISH
X-PUBLISHED-TTL:P3D
REFRESH-INTERVAL:P3D
CALSCALE:GREGORIAN
BEGIN:VEVENT
DTSTART:20260321T220000Z
DTEND:20260321T233000Z
X-MICROSOFT-CDO-ALLDAYEVENT:FALSE
SUMMARY:Ceremonial Sound Bath
DESCRIPTION:Step away from the noise of the busy world and enter a space of deep restoration.\n\nThis sound bath experience is designed to gently calm the nervous system\, clear mental clutter\, and awaken the body's natural ability to heal.\n\nThrough deep breathing and the help of soothing vibrations\, you'll be guided into a state of profound relaxation where stress melts away and inner clarity returns.\n\nAllow yourself to unplug\, reset\, and reconnect   leaving feeling refreshed\, grounded\, and renewed in both body and mind.\n\n*Cancellation Policy: Please note that cancellations made at least 48 hours before the workshop start time will receive a credit back to your account to be applied toward future offerings.
X-ALT-DESC;FMTTYPE=text/html:<p>Step away from the noise of the busy world and enter a space of deep restoration.</p>\n\n<p>This sound bath experience is designed to gently calm the nervous system\, clear mental clutter\, and awaken the body&rsquo\;s natural ability to heal.</p>\n\n<p>Through deep breathing and the help of soothing vibrations\, you&rsquo\;ll be guided into a state of profound relaxation where stress melts away and inner clarity returns.</p>\n\n<p>Allow yourself to unplug\, reset\, and reconnect &mdash\; leaving feeling refreshed\, grounded\, and renewed in both body and mind.</p>\n\n<p>*Cancellation Policy: Please note that cancellations made at least 48 hours before the workshop start time will receive a credit back to your account to be applied toward future offerings.</p>\n
LOCATION:Agape Healing Arts 222 U.S. Highway 1\, Suite 1 Tequesta\, FL 33469
UID:e.727.58975
SEQUENCE:3
DTSTAMP:20260421T083031Z
URL:https://members.pbnchamber.com/events/details/ceremonial-sound-bath-58975
END:VEVENT

END:VCALENDAR
