BEGIN:VCALENDAR
VERSION:2.0
PRODID:-//ChamberMaster//Event Calendar 2.0//EN
METHOD:PUBLISH
X-PUBLISHED-TTL:P3D
REFRESH-INTERVAL:P3D
CALSCALE:GREGORIAN
BEGIN:VEVENT
DTSTART;VALUE=DATE:20260314
DTEND;VALUE=DATE:20260315
TRANSP:TRANSPARENT
X-MICROSOFT-CDO-ALLDAYEVENT:TRUE
SUMMARY:DOG MAN: THE MUSICAL
DESCRIPTION:Recommended for ages 6+\n\n\n\n"A howling good time. This show is perfect for everyone." Newsday\n\n\n\nA Hilarious\, Heartfelt Family Adventure!\n\n\n\nBased on the worldwide bestselling hit series by Dav Pilkey\, DOG MAN: THE MUSICAL is a hilarious and heartwarming production following the chronicles of Dog Man\, who with the head of a dog and the body of a policeman\, loves to fight crime and chew on the furniture. But while trying his best to be a good boy\, can he catch Petey\, the world's most evil cat\, who has cloned himself to exact revenge on the doggy do-gooder? Find out in this epic musical adventure featuring the hilarity and heart of beloved characters from Dav Pilkey\, the creator of Captain Underpants and Cat Kid Comic Club.\n\n\n\nAdapted from the books DOG MAN\, DOG MAN UNLEASHED\, DOG MAN A TALE OF TWO KITTIES and DOG MAN LORD OF THE FLEAS by Dav Pilkey. Copyright  2016\, 2016\, 2017\, and 2018 by Dav Pilkey. Published by Graphix\, an imprint of Scholastic\, Inc.\n\n\n\nFamily Fare Series sponsored by Michael and Margaret Picotte Foundation
X-ALT-DESC;FMTTYPE=text/html:<p style="box-sizing: border-box\; margin: 0px\; padding: 0px\; font-family: brandon-grotesque\, sans-serif\; color: rgb(0\, 0\, 0)\; line-height: 1.5\; font-size: 18px\; letter-spacing: 0.3px\;">Recommended for ages 6+<br />\n<br />\n&ldquo\;A howling good time. This show is perfect for everyone.&rdquo\;&ndash\;Newsday<br />\n<br />\n<strong>A Hilarious\, Heartfelt Family Adventure!</strong><br />\n<br />\nBased on the worldwide bestselling hit series by Dav Pilkey\, DOG MAN: THE MUSICAL is a hilarious and heartwarming production following the chronicles of Dog Man\, who with the head of a dog and the body of a policeman\, loves to fight crime and chew on the furniture. But while trying his best to be a good boy\, can he catch Petey\, the world&rsquo\;s most evil cat\, who has cloned himself to exact revenge on the doggy do-gooder? Find out in this epic musical adventure featuring the hilarity and heart of beloved characters from Dav Pilkey\, the creator of&nbsp\;Captain Underpants&nbsp\;and&nbsp\;Cat Kid Comic Club.<br />\n<br />\nAdapted from the books DOG MAN\, DOG MAN UNLEASHED\, DOG MAN A TALE OF TWO KITTIES and DOG MAN LORD OF THE FLEAS by Dav Pilkey. Copyright &copy\;2016\, 2016\, 2017\, and 2018 by Dav Pilkey. Published by Graphix\, an imprint of Scholastic\, Inc.<br />\n<br />\n<em>Family Fare Series</em>&nbsp\;sponsored by&nbsp\;<strong>Michael and Margaret Picotte Foundation</strong></p>\n
LOCATION:Kravis Center for the Performing Arts 701 Okeechobee Blvd. West Palm Beach\, FL 33401
UID:e.727.58378
SEQUENCE:3
DTSTAMP:20260423T104628Z
URL:https://members.pbnchamber.com/events/details/dog-man-the-musical-58378
END:VEVENT

END:VCALENDAR
