BEGIN:VCALENDAR
VERSION:2.0
PRODID:-//ChamberMaster//Event Calendar 2.0//EN
METHOD:PUBLISH
X-PUBLISHED-TTL:P3D
REFRESH-INTERVAL:P3D
CALSCALE:GREGORIAN
BEGIN:VEVENT
DTSTART:20260318T213000Z
DTEND:20260319T003000Z
X-MICROSOFT-CDO-ALLDAYEVENT:FALSE
SUMMARY:Inner Power Partners Mix & Mingle in North Palm Beach
DESCRIPTION:Get ready to connect with your inner power and build new partnerships at our laid-back mix & mingle event in North Palm Beach!\n\n\n\n\nInner Power Partners Mix & Mingle in North Palm Beach\n\nVenue: Tommy Bahama Marlin Bar\n\nDate: March 18\, 2026 at 5:30 PM (Eastern Time)\n\nCome join us for a night of connection and empowerment at the Inner Power Partners Mix & Mingle event!\n\nLet's gather at the Tommy Bahama Marlin Bar in North Palm Beach on March 18\, 2026 at 5:30 PM until the fun stops.\n\nIt's going to be a fantastic opportunity to meet new people\, share experiences\, and network with like-minded individuals. Don't miss out on this chance to unleash your inner power and make meaningful connections! See you there!\n\n\n\nRegister HERE
X-ALT-DESC;FMTTYPE=text/html:<div>\n<div>Get ready to connect with your inner power and build new partnerships at our laid-back mix &amp\; mingle event in North Palm Beach!</div>\n</div>\n\n<div>\n<div>\n<p>Inner Power Partners Mix &amp\; Mingle in North Palm Beach</p>\n\n<p>Venue:&nbsp\;Tommy Bahama Marlin Bar</p>\n\n<p>Date:&nbsp\;March 18\, 2026 at 5:30 PM (Eastern Time)</p>\n\n<p>Come join us for a night of&nbsp\;connection&nbsp\;and&nbsp\;empowerment&nbsp\;at the Inner Power Partners Mix &amp\; Mingle event!</p>\n\n<p>Let&#39\;s gather at the&nbsp\;Tommy Bahama Marlin Bar&nbsp\;in North Palm Beach on March 18\, 2026 at 5:30 PM until the fun stops.</p>\n\n<p>It&#39\;s going to be a fantastic opportunity to&nbsp\;meet new people\,&nbsp\;share experiences\, and&nbsp\;network&nbsp\;with like-minded individuals. Don&#39\;t miss out on this chance to&nbsp\;unleash your inner power&nbsp\;and make meaningful&nbsp\;connections! See you there!<br />\n<br />\nRegister <a href="https://www.eventbrite.com/e/inner-power-partners-mix-mingle-in-north-palm-beach-tickets-1982885625283?utm-campaign=social&amp\;utm-content=attendeeshare&amp\;utm-medium=discovery&amp\;utm-term=listing&amp\;utm-source=cp&amp\;aff=ebdsshcopyurl">HERE</a></p>\n</div>\n</div>\n
LOCATION:Tommy Bahama Marlin Bar 3101 PGA Boulevard Palm Beach Gardens\, FL 33410
UID:e.727.58970
SEQUENCE:3
DTSTAMP:20260421T104124Z
URL:https://members.pbnchamber.com/events/details/inner-power-partners-mix-mingle-in-north-palm-beach-58970
END:VEVENT

END:VCALENDAR
