BEGIN:VCALENDAR
VERSION:2.0
PRODID:-//ChamberMaster//Event Calendar 2.0//EN
METHOD:PUBLISH
X-PUBLISHED-TTL:P3D
REFRESH-INTERVAL:P3D
CALSCALE:GREGORIAN
BEGIN:VEVENT
DTSTART:20160806T110000Z
DTEND:20160806T160000Z
X-MICROSOFT-CDO-ALLDAYEVENT:FALSE
SUMMARY:Jupiter Medical Center Loggerhead Triathlon
DESCRIPTION:Click here for race results!\n\n\n\nThe Jupiter Medical Center Loggerhead Triathlon will be held on Saturday\, August 6th beginning at 7:00 a.m. at Carlin Park in Jupiter\, FL. The race course consists of a 3/8 mile ocean swim\, 13 mile bike and flat 3.1 mile run. Awards will be given to the top 3 overall in each division. This is a USAT sanctioned event.\n\n\n\nThe Jupiter Medical Center Loggerhead Triathlon is one of the longest enduring triathlons in the state of Florida. Dating back to 1985\, triathletes have made the trip to Jupiter year after year to enjoy the magnificent Oceanside setting\, the family-friendly atmosphere\, and the competition. The event has become a "must do" on the southeast race circuit and has spawned some of the top triathletes in the United States.\n\n\n\n\n\n\nCourse Maps\n\nOverall Course Map\n\nSwim & Transition\n\nBike\n\nRun  \n\n\n\n \n\nThis is a USAT Sanctioned Event. \n\n\n\n\nThe Packet Pick Up for all race registrants will be on Friday\, August 5\, 2016 from 3:00 p.m. to 8:00 p.m. at the Jupiter Beach Resort and Spa (located at 5 N A1A\, Jupiter\, FL 33477). All athletes must show a photo ID in order to receive their packet. Relay teams must have all members present to receive their packet. \n\n\n\nThe Health and Fitness Expo will feature over 30 local businesses that offer products specific to triathletes. Be sure to stick around during packet pick up to check out all the exhibitors have to offer!\n\n\n\nThe First Timers Seminar is recommended for all Jupiter Medical Center Loggerhead Triathlon First Timers. It will be held during packet pick up on Friday\, August 5th from 6:00-7:00 p.m. at the Jupiter Beach Resort in the Marlin Room.\n\n\n\nVOLUNTEERS: Volunteers needed for race day on August 6th as well as the Health & Fitness Expo on August 5th. Click here to sign up and for more information. \n\n\n\nPHOTOS:\n\nwww.bbactionphoto.com
X-ALT-DESC;FMTTYPE=text/html:<div>\n<div><span style="font-size:14px\;"><span style="font-family:arial\;"><span style="line-height: 20.8px\;"><a href="http://sommersports.com/Results/2016-Race-Results/2016-Loggerhead-Triathlon-Race-Results">Click here for race results!</a><br />\n<br />\nThe Jupiter Medical Center Loggerhead Triathlon will be held on&nbsp\;</span><strong style="line-height: 20.8px\;">Saturday\, August 6th&nbsp\;</strong><span style="line-height: 20.8px\;">beginning at 7:00&nbsp\;a.m. at&nbsp\;</span></span></span><st1:place style="line-height: 20.8px\;" w:st="on"><st1:placename w:st="on"><span style="font-size:14px\;"><span style="font-family:arial\;">Carlin</span></span></st1:placename><st1:placetype w:st="on"><span style="font-size:14px\;"><span style="font-family:arial\;">&nbsp\;Park</span></span></st1:placetype></st1:place><span style="font-size:14px\;"><span style="font-family:arial\;"><span style="line-height: 20.8px\;">&nbsp\;in Jupiter\, FL. The race course consists of a&nbsp\;</span><strong style="line-height: 20.8px\;">3/8 mile ocean swim\, 13 mile bike and flat 3.1 mile run.</strong><span style="line-height: 20.8px\;">&nbsp\;Awards will be given to the top 3 overall in each&nbsp\;division. This is a USAT sanctioned event.</span><br />\n<br />\nThe Jupiter Medical Center&nbsp\;<strong>Loggerhead Triathlon</strong> is one of the longest enduring triathlons in the state of </span></span><st1:place w:st="on"><st1:state w:st="on"><span style="font-size:14px\;"><span style="font-family:arial\;">Florida</span></span></st1:state></st1:place><span style="font-size:14px\;"><span style="font-family:arial\;">. Dating back to 1985\, triathletes have made the trip to Jupiter year after year to enjoy the magnificent </span></span><st1:city w:st="on"><st1:place w:st="on"><span style="font-size:14px\;"><span style="font-family:arial\;">Oceanside</span></span></st1:place></st1:city><span style="font-size:14px\;"><span style="font-family:arial\;"> setting\, the family-friendly atmosphere\, and the competition. The event has become a &quot\;must do&quot\; on the southeast race circuit and has spawned some of the top triathletes in the United States.</span></span></div>\n</div>\n\n<div>\n<div>\n<p class="MsoNormal"><br />\n<span style="font-size:14px\;"><span style="font-family:arial\;"><strong>Course Maps</strong></span></span></p>\n\n<div class="MsoNormal"><span style="font-size:14px\;"><span style="font-family:arial\;"><a href="https://chambermaster.blob.core.windows.net/userfiles/UserFiles/chambers/727/File/OverallCourseMap20161.pdf">Overall Course Map</a><br />\n<a href="https://chambermaster.blob.core.windows.net/userfiles/UserFiles/chambers/727/File/NewTRANSITION2016SWIMWITHTENTS1.pdf">Swim &amp\; Transition</a><br />\n<a href="https://chambermaster.blob.core.windows.net/userfiles/UserFiles/chambers/727/File/LOGBike20161.pdf">Bike</a><br />\n<a href="https://chambermaster.blob.core.windows.net/userfiles/UserFiles/chambers/727/File/LOGRun20161.pdf">Run&#8203\;</a> </span></span><br />\n<br />\n&nbsp\;</div>\n\n<div style="margin: 0in 0in 0pt\;"><span style="font-size:14px\;"><span style="font-family:arial\;">This is a USAT Sanctioned Event.&nbsp\;</span></span></div>\n</div>\n\n<div style="margin: 0in 0in 0pt\;"><br />\n<span style="font-size:14px\;"><span style="font-family:arial\;">The Packet Pick Up for all race registrants will be on <strong>Friday\, August 5\, 2016</strong>&nbsp\;from 3:00 p.m. to 8:00 p.m. at the <strong>Jupiter Beach Resort and Spa</strong> (located at 5 N A1A\, Jupiter\, FL 33477). All athletes must show a photo ID in order to receive their packet. Relay teams must have all members present to receive their packet.&nbsp\;<br />\n<br />\n<a href="http://members.npbchamber.com/events/details/jupiter-medical-center-loggerhead-triathlon-health-fitness-expo-9607"><b>The Health and Fitness Expo</b></a> will feature over 30 local businesses that offer products specific to triathletes. Be sure to stick around during packet pick up to check out all the exhibitors have to offer!</span></span></div>\n\n<div style="margin: 0in 0in 0pt\;"><br />\n<span style="font-size:14px\;"><span style="font-family:arial\;"><b>The&nbsp\;First Timers Seminar</b> is recommended for all Jupiter Medical Center Loggerhead Triathlon First Timers. It will be held during packet pick up on Friday\, August 5th&nbsp\;from 6:00-7:00&nbsp\;p.m.&nbsp\;at the Jupiter Beach Resort in the Marlin Room.</span></span></div>\n\n<div style="margin: 0in 0in 0pt\;"><br />\n<span style="font-size:14px\;"><span style="font-family:arial\;"><u style="line-height: 20.8px\;"><strong>VOLUNTEERS</strong>:&nbsp\;</u><span style="line-height: 20.8px\;">Volunteers needed for race day on August 6th&nbsp\;as well as the Health &amp\; Fitness Expo on August 5th. <u><strong><a href="https://runsignup.com/Race/Volunteer/FL/Jupiter/LoggerheadTriathlon">Click here</a></strong></u> to sign up and for more information.&nbsp\;</span></span></span></div>\n\n<div style="margin: 0in 0in 0pt\;"><br />\n<span style="font-size:14px\;"><span style="font-family:arial\;"><strong style="line-height: 1.6\;"><u>PHOTOS:</u></strong></span></span></div>\n</div>\n<span style="font-size:14px\;"><span style="font-family:arial\;"><a href="http://www.bbactionphoto.com" target="_blank">www.bbactionphoto.com</a></span></span><br />\n&nbsp\;
LOCATION:Carlin Park 400 Florida A1A Jupiter\, Florida 33477
UID:e.727.9482
SEQUENCE:3
DTSTAMP:20260422T072516Z
URL:https://members.pbnchamber.com/events/details/jupiter-medical-center-loggerhead-triathlon-08-06-2016-9482
END:VEVENT

END:VCALENDAR
