BEGIN:VCALENDAR
VERSION:2.0
PRODID:-//ChamberMaster//Event Calendar 2.0//EN
METHOD:PUBLISH
X-PUBLISHED-TTL:P3D
REFRESH-INTERVAL:P3D
CALSCALE:GREGORIAN
BEGIN:VEVENT
DTSTART:20160805T190000Z
DTEND:20160806T000000Z
X-MICROSOFT-CDO-ALLDAYEVENT:FALSE
SUMMARY:Jupiter Medical Center Loggerhead Triathlon Health & Fitness Expo
DESCRIPTION:Taking place the day prior to the Loggerhead Triathlon\, the Expo serves as the location in which participating athletes will pick up materials for the race including t-shirt\, bib numbers and important race day information. New competitors to the Jupiter Medical Center Loggerhead Triathlon can attend a "First Timers" seminar at 6 p.m. in the Marlin Room. The Health & Fitness Expo will run from 3 p.m. to 8 p.m.\n\n\n\nWe are no longer accepting exhibitors for this event.\n\n \nAbout the Jupiter Medical Center Loggerhead Triathlon\n\nDating back to 1985\, competitors have made the trip to Jupiter year after year to enjoy one of the longest enduring triathlons in the state of Florida. The Jupiter Medical Center Loggerhead Triathlon is sprint triathlon that includes a 3/8 of a mile swim off Carlin Park\, a 13 mile bike ride down A1A into Juno Beach culminating with a 3.1 mile (5k) run to the Jupiter Inlet and back to Carlin Park. Click here to learn more about the Jupiter Medical Center Loggerhead Triathlon.
X-ALT-DESC;FMTTYPE=text/html:<p bitstream="" font-size:="" line-height:="" new="" style="font-family: Georgia\, " times=""><span style="font-size:14px\;"><span style="font-family:arial\;">Taking place the day prior to the Loggerhead&nbsp\;Triathlon\, the Expo serves as the location in which&nbsp\;participating&nbsp\;athletes&nbsp\;will pick up materials for the race including t-shirt\, bib numbers and important race day information. N<span style="line-height: 20.8px\;">ew competitors to the Jupiter Medical Center Loggerhead Triathlon can attend a &quot\;First Timers&quot\;&nbsp\;seminar at 6&nbsp\;p.m.&nbsp\;in the Marlin Room. The&nbsp\;Health &amp\; Fitness Expo will run from 3 p.m. to 8 p.m.</span></span></span><br />\n<br />\n<span style="font-size:14px\;"><span style="font-family:arial\;"><b>We are no longer accepting exhibitors for this event.</b></span></span><br />\n&nbsp\;</p>\n<u><strong><span style="font-family:arial\;"><span style="font-size:14px\;">About the Jupiter Medical Center&nbsp\;Loggerhead Triathlon</span></span></strong></u><br />\n<span style="font-family:arial\;"><span style="font-size:14px\;">Dating back to 1985\, competitors have made the trip to Jupiter year after year to enjoy one of the longest enduring triathlons in the state of Florida. The Jupiter Medical Center Loggerhead Triathlon is sprint triathlon that includes a 3/8 of a mile swim off Carlin Park\, a 13 mile bike ride down&nbsp\;A1A into Juno Beach culminating with a 3.1 mile (5k) run to the Jupiter Inlet and back to Carlin Park. <a href="http://members.npbchamber.com/events/details/jupiter-medical-center-loggerhead-triathlon-9482">Click here</a> to learn more about the Jupiter Medical Center Loggerhead Triathlon.&nbsp\;</span></span><br />\n&nbsp\;
LOCATION:Jupiter Beach Resort & Spa Grand Ballroom 5 N A1A Jupiter\, FL 33477
UID:e.727.9607
SEQUENCE:3
DTSTAMP:20260422T112105Z
URL:https://members.pbnchamber.com/events/details/jupiter-medical-center-loggerhead-triathlon-health-fitness-expo-08-05-2016-9607
END:VEVENT

END:VCALENDAR
