BEGIN:VCALENDAR
VERSION:2.0
PRODID:-//ChamberMaster//Event Calendar 2.0//EN
METHOD:PUBLISH
X-PUBLISHED-TTL:P3D
REFRESH-INTERVAL:P3D
CALSCALE:GREGORIAN
BEGIN:VEVENT
DTSTART:20270805T160000Z
DTEND:20270805T164500Z
X-MICROSOFT-CDO-ALLDAYEVENT:FALSE
SUMMARY:Leave it\, Move it\, Roll it\, Take it - an Educational webinar on 401k Rollovers
DESCRIPTION:An educational program to help you learn how to handle your 401(k)\, pension or other employer-sponsored retirement plan when you leave a job.  Participants will learn about:\n\n	The most common distribution options\n	How to avoid having the IRS withhold 20% of your retirement distribution\n	How taxes\, penalties\, and investment options factor into your decision\n	Length:  30 minutes and will be opened to Questions and Answers\n	Grab lunch and join us\, invite your employees
X-ALT-DESC;FMTTYPE=text/html:An educational program to help you learn how to handle your 401(k)\, pension or other employer-sponsored retirement plan when you leave a job.&nbsp\; Participants will learn about:\n<ul>\n	<li>The most common distribution options</li>\n	<li>How to avoid having the IRS withhold 20% of your retirement distribution</li>\n	<li>How taxes\, penalties\, and investment options factor into your decision</li>\n	<li>Length:&nbsp\; 30 minutes and will be opened to Questions and Answers</li>\n	<li>Grab lunch and join us\, invite your employees</li>\n</ul>\n
LOCATION:Virtual email Kelly.davis@edwardjones.com for participant workbook and zoom link
UID:e.727.57036
SEQUENCE:3
DTSTAMP:20260425T031201Z
URL:https://members.pbnchamber.com/events/details/leave-it-move-it-roll-it-take-it-an-educational-webinar-on-401k-rollovers-08-05-2027-57036
END:VEVENT

END:VCALENDAR
