BEGIN:VCALENDAR
VERSION:2.0
PRODID:-//ChamberMaster//Event Calendar 2.0//EN
METHOD:PUBLISH
X-PUBLISHED-TTL:P3D
REFRESH-INTERVAL:P3D
CALSCALE:GREGORIAN
BEGIN:VEVENT
DTSTART:20260309T230000Z
DTEND:20260310T010000Z
X-MICROSOFT-CDO-ALLDAYEVENT:FALSE
SUMMARY:LIGHTBODY BREATHWORK: A Journey of Breath\, Sound & Light
DESCRIPTION:LIGHTBODY BREATHWORK:\n\n\n\nWhere: Glide Studio\, Tequesta\n\nTime: 6-9pm\n\nInvestment: $65\n\nA Journey of Breath\, Sound & Light\n\nJoin us for a two-hour immersion of Light Body Breathwork \, crystalline sound healing\, and guided meditation. Through conscious breath\, the healing vibrations of crystal bowls\, gong\, and chimes\, and a closing Light Body Activation meditation\, you will awaken your radiant field\, release stress\, and reconnect with your infinite self.\n\n\n\nBenefits\n\n  Balance your nervous system\n\n  Release stress and emotional heaviness\n\n  Expand heart coherence and inner clarity\n\n  Support healthy epigenetic expression\n\n  Access the quantum field of healing and possibility\n\nFacilitators\n\nDrs. Bella & Keith Cini are holistic physicians\, licensed acupuncturists\, and co-creators of Light Body Breathwork . Together they integrate decades of experience in\n\nTraditional Chinese Medicine\, breathwork\, sound healing\, and energy medicine to guide transformational journeys that balance the nervous system\, release stress\, and awaken the radiant light body within.
X-ALT-DESC;FMTTYPE=text/html:<p>LIGHTBODY BREATHWORK:<br />\n<br />\nWhere: Glide Studio\, Tequesta<br />\nTime: 6-9pm<br />\nInvestment: $65</p>\n\n<p>A Journey of Breath\, Sound &amp\; Light</p>\n\n<p>Join us for a two-hour immersion of Light Body Breathwork&trade\;\, crystalline sound healing\, and guided meditation. Through conscious breath\, the healing vibrations of crystal bowls\, gong\, and chimes\, and a closing Light Body Activation meditation\, you will awaken your radiant field\, release stress\, and reconnect with your infinite self.</p>\n\n<p><br />\nBenefits<br />\n&bull\; Balance your nervous system<br />\n&bull\; Release stress and emotional heaviness<br />\n&bull\; Expand heart coherence and inner clarity<br />\n&bull\; Support healthy epigenetic expression<br />\n&bull\; Access the quantum field of healing and possibility</p>\n\n<p>Facilitators<br />\nDrs. Bella &amp\; Keith Cini are holistic physicians\, licensed acupuncturists\, and co-creators of Light Body Breathwork&trade\;. Together they integrate decades of experience in<br />\nTraditional Chinese Medicine\, breathwork\, sound healing\, and energy medicine to guide transformational journeys that balance the nervous system\, release stress\, and awaken the radiant light body within.</p>\n
LOCATION:Glide Studio\, Tequesta
UID:e.727.58976
SEQUENCE:3
DTSTAMP:20260423T111201Z
URL:https://members.pbnchamber.com/events/details/lightbody-breathwork-a-journey-of-breath-sound-light-03-09-2026-58976
END:VEVENT

END:VCALENDAR
