BEGIN:VCALENDAR
VERSION:2.0
PRODID:-//ChamberMaster//Event Calendar 2.0//EN
METHOD:PUBLISH
X-PUBLISHED-TTL:P3D
REFRESH-INTERVAL:P3D
CALSCALE:GREGORIAN
BEGIN:VEVENT
DTSTART:20191018T180000Z
DTEND:20191018T190000Z
X-MICROSOFT-CDO-ALLDAYEVENT:FALSE
SUMMARY:Manatee Lagoon Tour
DESCRIPTION:Join us on a walking tour of our visitor center and learn about manatee anatomy\, physiology and the importance of GPS tracking devices\, as well as the Lake Worth Lagoon. Meet at the manatee skeleton display at the entrance of the building.
X-ALT-DESC;FMTTYPE=text/html:Join us on a walking tour of our visitor center and learn about manatee anatomy\, physiology and the importance of GPS tracking devices\, as well as the Lake Worth Lagoon. Meet at the manatee skeleton display at the entrance of the building.
LOCATION:Manatee Lagoon an FPL Eco-Discovery Center
UID:e.727.23125
SEQUENCE:3
DTSTAMP:20260424T065639Z
URL:https://members.pbnchamber.com/events/details/manatee-lagoon-tour-10-18-2019-23125
END:VEVENT

END:VCALENDAR
