BEGIN:VCALENDAR
VERSION:2.0
PRODID:-//ChamberMaster//Event Calendar 2.0//EN
METHOD:PUBLISH
X-PUBLISHED-TTL:P3D
REFRESH-INTERVAL:P3D
CALSCALE:GREGORIAN
BEGIN:VEVENT
DTSTART;VALUE=DATE:20261001
DTEND;VALUE=DATE:20261002
TRANSP:TRANSPARENT
X-MICROSOFT-CDO-ALLDAYEVENT:TRUE
SUMMARY:Mentee Registration for the Women In Business 2026 Mentorship Academy\, Presented by Lickstein Plastic Surgery
DESCRIPTION:The Women in Business Council is dedicated to offering education and networking opportunities for Women in Business. The Women In Business 2026 Mentorship Academy\, Presented by Lickstein Plastic Surgery is an opportunity for women facing challenges affecting their career or business to grow personally and professionally. Each mentee is pair with a mentor who provides mentees with guidance\, motivation\, and encouragement on their professional and personal journeys. Our six sessions are complemented by a Kickoff\, happy hours\, and a Final Session. We strive to ensure that our mentees can take actionable steps with the one-on-one guidance of their mentors in order to realize their dreams. \n\n \n\nWHY?\n\nTo offer growth and support to a female businessperson.  We will:\n\n	Identify career inhibitors in your life and work\n	Create strategies to overcome the various career inhibitors\n	Assist in developing leadership skills for advancing her career \n	Instill confidence and provide a business support network\n	Help you reach your full potential!\n\nWHO can participate?\n\nWoman member (or future member) of the PBNCC must have at least 2 of the below:\n\n\n	Woman-owned business\n	Young Professional beginning her career or business\n	Woman reentering the workforce\n	Woman wanting to advance her career\n	Woman leader working in the nonprofit sector\n	Woman working in a male-dominated field\n\n\n\n\nMentee Registration (two-step process):\n\n\n	Register online via the event registration on the right-hand part of the screen.\n	Submit application using the survey link in the confirmation email you receive after registering. \n\nMentor Registration:\n\n\n	No need to complete this page's registration\, just submit application using the survey link here: SURVEY LINK\n\n\n\nRegistration Deadline is October 1st at 12 Noon. \n\n\n\nProgram Dates to come!   \n\n\n\n\n\n\n\nSponsorships are available - click here for full details!* Still accepting sponsorships until October 14th.\n\nPurchase a sponsorship by clicking "Register now at the top left of the event webpage (please write in the Comments section which session you would like to sponsor)\n\n*Sponsorships are available for PBN Chamber members only. Membership start at just $565 for businesses with up to 2 employees. Become a member today!\n\n\n \nMentorship Academy Presenting Sponsor | $1\,500 SOLD - Lickstein Plastic Surgery\n\nWIBC Mentorship Academy Alumni Group Presenting Sponsor | $1\,500 SOLD - Florida Crystals\n\nWorkshop or Happy Hour Sponsor | $250 SPONSORSHIPS AVAILABLE \n\n \n\n	\n		\n			\n			 \n			\n			\n			Members of the Palm Beach North Chamber of Commerce\n			\n			\n			General Admission/Future Members of the Palm Beach North Chamber of Commerce\n			\n		\n		\n			\n			Early Bird\n\n			Before May 1\, 2026\n			\n			\n			$199\n			\n			\n			$249\n			\n		\n		\n			\n			Regular Pricing\n\n			Before July 31\, 2026\n			\n			\n			$249\n			\n			\n			$299\n			\n		\n		\n			\n			Full Pricing\n\n			Before October 1\, 2026\n			\n			\n			$279\n			\n			\n			$329\n			\n		\n	\n\n\nNeed a payment plan? Reach out to Caitlyn@pbnchamber.com to inquire. \n\n\n\n*Financial assistance is available through scholarships. Please reach out to caitlyn@pbnchamber.com to be considered (DUE BY 9/25/26 at 12 PM).
X-ALT-DESC;FMTTYPE=text/html:<span style="font-size:14px\;"><span style="font-family:arial\;"><span style="color:black\;">The Women in Business Council is dedicated to offering education and networking opportunities for Women in Business. The&nbsp\;</span><strong><span style="color:black\;">Women In Business 2026 Mentorship Academy\, Presented by <a href="https://members.pbnchamber.com/list/member/lickstein-plastic-surgery-13521">Lickstein Plastic Surgery</a></span></strong>&nbsp\;is an opportunity for women facing challenges affecting their career or business to grow personally and professionally.&nbsp\;Each mentee is pair with a mentor who provides mentees with guidance\, motivation\, and encouragement on their professional and personal journeys. Our six sessions are complemented by a Kickoff\, happy hours\, and a Final Session. We strive to ensure that our mentees can take actionable steps with the one-on-one guidance of their mentors in order to realize their dreams.&nbsp\;</span></span><br />\n<span style="font-size:14px\;"><span style="font-family:arial\;">&nbsp\;<br />\n<strong>WHY</strong>?<br />\nTo offer growth and support to a female businessperson.&nbsp\; We will:</span></span>\n<ol>\n	<li style="text-autospace:none\;"><span style="font-size:14px\;"><span style="font-family:arial\;">Identify career inhibitors in your&nbsp\;life and work</span></span></li>\n	<li style="text-autospace:none\;"><span style="font-size:14px\;"><span style="font-family:arial\;">Create strategies to overcome the various career inhibitors</span></span></li>\n	<li style="text-autospace:none\;"><span style="font-size:14px\;"><span style="font-family:arial\;">Assist in&nbsp\;developing leadership skills for advancing her career </span></span></li>\n	<li style="text-autospace:none\;"><span style="font-size:14px\;"><span style="font-family:arial\;">Instill confidence and provide a business support network</span></span></li>\n	<li style="text-autospace:none\;"><span style="font-size:14px\;"><span style="font-family:arial\;">Help&nbsp\;you&nbsp\;reach your full&nbsp\;potential!</span></span></li>\n</ol>\n<span style="font-size:14px\;"><span style="font-family:arial\;"><strong>WHO can participate</strong>?</span></span>\n\n<div style="text-autospace:none\;"><span style="font-size:14px\;"><span style="font-family:arial\;">Woman member (or future member) of the PBNCC must have at least 2 of the below:</span></span></div>\n\n<ul>\n	<li style="text-autospace:none\;"><span style="font-size:14px\;"><span style="font-family:arial\;">Woman-owned business</span></span></li>\n	<li style="text-autospace:none\;"><span style="font-size:14px\;"><span style="font-family:arial\;">Young Professional beginning her career or business</span></span></li>\n	<li style="text-autospace:none\;"><span style="font-size:14px\;"><span style="font-family:arial\;">Woman reentering the workforce</span></span></li>\n	<li style="text-autospace:none\;"><span style="font-size:14px\;"><span style="font-family:arial\;">Woman wanting to advance her career</span></span></li>\n	<li style="text-autospace:none\;"><span style="font-size:14px\;"><span style="font-family:arial\;">Woman leader&nbsp\;working in the nonprofit sector</span></span></li>\n	<li style="text-autospace:none\;"><span style="font-size:14px\;"><span style="font-family:arial\;">Woman working in a male-dominated field</span></span></li>\n</ul>\n\n<div style="text-autospace:none\;"><br />\n<u><strong><span style="font-size:16px\;"><span style="font-family: arial\;">Mentee Registration (two-step process):</span></span></strong></u>\n\n<ol>\n	<li><span style="font-size:16px\;"><span style="font-family: arial\;">Register online via the event registration on the right-hand part of the screen.</span></span></li>\n	<li><span style="font-size:16px\;"><font face="arial">Submit application using the survey link in the confirmation email you receive after registering.&nbsp\;</font></span></li>\n</ol>\n<u><strong><span style="font-size: 16px\;"><span style="font-family: arial\;">Mentor Registration:</span></span></strong></u>\n\n<ol>\n	<li><span style="font-size: 16px\;"><font face="arial">No need to complete this page&#39\;s registration\, just submit application using the survey link here: <a href="https://docs.google.com/forms/d/e/1FAIpQLSdBvU-c7A6QW6768j0Ykw6GC8ruos2k-tHLKb8PGu4KWyM4Yw/viewform?usp=publish-editor">SURVEY LINK</a></font></span></li>\n</ol>\n<br />\n<b style="color: rgb(255\, 0\, 0)\; font-family: arial\; font-size: 16px\;"><i>Registration Deadline is October 1st at 12 Noon.&nbsp\;</i><br />\n<br />\n<span style="color:#000000\;">Program Dates to come!&nbsp\;</span></b> &nbsp\;\n\n<hr /><br />\n<br />\n<br />\n<span style="box-sizing: border-box\; color: rgb(68\, 68\, 68)\; font-family: Arial\, Helvetica\, sans-serif\; font-size: 14px\;"><span style="box-sizing: border-box\; font-family: arial\;"><span style="box-sizing: border-box\; font-weight: bolder\;">Sponsorships are available&nbsp\;</span>- click&nbsp\;<a href="https://www.dropbox.com/scl/fo/u6r249weqp0n4lzy32raw/AHQjwGRJOQmKVzxMfHuHWgQ?rlkey=fo0dahi3xfid8zp8kjj3327ei&amp\;dl=0" style="color: rgb(34\, 72\, 132)\; box-sizing: border-box\; background-color: transparent\; text-decoration-line: none\; transition: all 0.2s linear 0s\; overflow-wrap: break-word\;">here for full details</a>!*&nbsp\;</span></span><span style="box-sizing: border-box\; font-weight: bolder\; color: rgb(68\, 68\, 68)\; font-size: 14px\; font-family: arial\;"><span style="box-sizing: border-box\; color: rgb(255\, 0\, 0)\;"><strong><em>Still accepting sponsorships until October 14th.</em></strong></span></span><br style="box-sizing: border-box\; color: rgb(68\, 68\, 68)\; font-family: Arial\, Helvetica\, sans-serif\; font-size: 14px\;" />\n<em style="background-image: none\; background-position: initial\; background-size: initial\; background-repeat: initial\; background-attachment: initial\; background-origin: initial\; background-clip: initial\; box-sizing: content-box\; border-style: none\; color: rgb(68\, 68\, 68)\; font-size: 14px\; inset: auto\; clear: none\; content: normal\; direction: inherit\; display: inline\; empty-cells: show\; font-variant-numeric: inherit\; font-variant-east-asian: inherit\; font-stretch: inherit\; font-family: arial\; line-height: inherit\; margin: 0px\; max-height: none\; max-width: none\; min-height: initial\; min-width: initial\; opacity: 1\; outline-offset: 0px\; overflow: visible\; padding: 0px\; position: static\; resize: none\; table-layout: auto\; text-overflow: clip\; vertical-align: baseline\; visibility: inherit\; word-break: inherit\; overflow-wrap: inherit\; z-index: auto\; border-width: initial\; border-color: initial\; border-collapse: separate\; border-image: none 100% 1 0 / 1 / 0 stretch\; border-radius: 0px\; height: auto\; width: auto\; box-shadow: none\;">Purchase a sponsorship by clicking &quot\;Register now&nbsp\;</em><em style="box-sizing: border-box\; color: rgb(68\, 68\, 68)\; font-family: Arial\, Helvetica\, sans-serif\; font-size: 14px\;"><span style="box-sizing: content-box\; border-style: none\; inset: auto\; clear: none\; content: normal\; direction: inherit\; empty-cells: show\; font-variant-numeric: inherit\; font-variant-east-asian: inherit\; font-stretch: inherit\; line-height: inherit\; margin: 0px\; max-height: none\; max-width: none\; min-height: initial\; min-width: initial\; opacity: 1\; outline-offset: 0px\; overflow: visible\; padding: 0px\; position: static\; resize: none\; table-layout: auto\; text-overflow: clip\; vertical-align: baseline\; visibility: inherit\; word-break: inherit\; overflow-wrap: inherit\; z-index: auto\; background-image: none\; background-position: initial\; background-size: initial\; background-repeat: initial\; background-attachment: initial\; background-origin: initial\; background-clip: initial\; border-width: initial\; border-color: initial\; border-collapse: separate\; border-image: none 100% 1 0 / 1 / 0 stretch\; border-radius: 0px\; height: auto\; width: auto\; box-shadow: none\;"><span style="box-sizing: content-box\; border-style: none\; inset: auto\; clear: none\; color: inherit\; content: normal\; direction: inherit\; empty-cells: show\; font-style: inherit\; font-variant: inherit\; font-weight: inherit\; font-stretch: inherit\; font-size: inherit\; font-family: arial\; letter-spacing: inherit\; line-height: inherit\; margin: 0px\; max-height: none\; max-width: none\; min-height: initial\; min-width: initial\; opacity: 1\; outline-offset: 0px\; overflow: visible\; padding: 0px\; position: static\; resize: none\; table-layout: auto\; text-align: inherit\; text-indent: inherit\; text-overflow: clip\; text-transform: inherit\; vertical-align: baseline\; visibility: inherit\; white-space: inherit\; word-break: inherit\; word-spacing: inherit\; overflow-wrap: inherit\; z-index: auto\; background: none\; border-width: initial\; border-color: initial\; border-collapse: separate\; border-image: none 100% 1 0 / 1 / 0 stretch\; border-radius: 0px\; height: auto\; width: auto\; box-shadow: none\;">at the top left of the event webpage (please write in the Comments section which session you would like to sponsor)</span></span></em><br style="box-sizing: border-box\; color: rgb(68\, 68\, 68)\; font-family: Arial\, Helvetica\, sans-serif\; font-size: 14px\;" />\n<em style="box-sizing: border-box\; color: rgb(68\, 68\, 68)\; font-family: Arial\, Helvetica\, sans-serif\; font-size: 12px\;"><span style="box-sizing: border-box\;">*Sponsorships are available for PBN Chamber members only. Membership start at just $565 for businesses with up to 2 employees.&nbsp\;</span><a href="https://www.pbnchamber.com/about/become-a-member/" style="color: rgb(34\, 72\, 132)\; box-sizing: content-box\; background: none transparent\; text-decoration-line: none\; transition: all 0.2s linear 0s\; border-style: none\; overflow-wrap: break-word\; inset: auto\; clear: none\; content: normal\; direction: inherit\; display: inline\; empty-cells: show\; float: none\; font-variant-numeric: inherit\; font-variant-east-asian: inherit\; font-stretch: inherit\; font-size: 14px\; line-height: inherit\; margin: 0px\; max-height: none\; max-width: none\; min-height: initial\; min-width: initial\; opacity: 1\; outline-offset: 0px\; overflow: visible\; padding: 0px\; position: static\; resize: none\; table-layout: auto\; text-overflow: clip\; vertical-align: baseline\; visibility: inherit\; word-break: inherit\; z-index: auto\; border-width: initial\; border-color: initial\; border-collapse: separate\; border-image: none 100% 1 0 / 1 / 0 stretch\; border-radius: 0px\; height: auto\; width: auto\; box-shadow: none\;">Become a member today</a><span style="box-sizing: border-box\;">!</span></em></div>\n\n<div style="text-autospace:none\;">\n<div style="box-sizing: border-box\;">&nbsp\;\n<div><span style="font-size:14px\;"><span style="font-family:arial\;"><strong>Mentorship Academy Presenting Sponsor</strong> | $1\,500 <span style="color:#FF0000\;"><em><strong>SOLD - </strong></em></span><a href="https://members.pbnchamber.com/list/member/lickstein-plastic-surgery-13521"><em><strong>Lickstein Plastic Surgery</strong></em></a></span></span><br />\n<span style="font-family: arial\; font-size: 14px\; font-weight: bold\;">WIBC Mentorship Academy Alumni Group Presen</span><strong style="font-family: arial\; font-size: 14px\;">ting Sponsor</strong><span style="font-family: arial\; font-size: 14px\;">&nbsp\;| $1\,500&nbsp\;</span><span style="font-family: arial\; font-size: 14px\; color: rgb(255\, 0\, 0)\;"><em><strong>SOLD -&nbsp\;</strong></em></span><a href="https://members.pbnchamber.com/list/member/florida-crystals-corporation-west-palm-beach-13362" style="font-family: arial\; font-size: 14px\;"><span style="font-weight: bold\;">Florida Crystals</span></a></div>\n\n<div><span style="font-size:14px\;"><span style="font-family:arial\;"><strong>Workshop or Happy Hour Sponsor </strong>| $250 </span></span><em style="color: rgb(0\, 204\, 102)\; font-family: arial\; font-size: 14px\;"><strong>SPONSORSHIPS AVAILABLE&nbsp\;</strong></em>\n\n<div style="direction: ltr\;">&nbsp\;\n<table border="1" cellpadding="0" cellspacing="0" style="direction: ltr\; border-collapse: collapse\; border-style: solid\; border-color: rgb(163\, 163\, 163)\; border-width: 1pt\;" summary="" title="" valign="top">\n	<tbody>\n		<tr>\n			<td style="border-style: solid\; border-color: rgb(163\, 163\, 163)\; border-width: 1pt\; vertical-align: top\; width: 0.9562in\; padding: 4pt\;">\n			<p style="margin: 0in\; font-family: Calibri\; font-size: 10pt\;">&nbsp\;</p>\n			</td>\n			<td style="border-style: solid\; border-color: rgb(163\, 163\, 163)\; border-width: 1pt\; vertical-align: top\; width: 2.1513in\; padding: 4pt\;">\n			<p style="margin: 0in\; font-family: Calibri\; font-size: 10pt\; text-align: center\;"><span style="font-size: 14px\;"><span style="font-family: arial\;">Members of the Palm Beach North Chamber of Commerce</span></span></p>\n			</td>\n			<td style="border-style: solid\; border-color: rgb(163\, 163\, 163)\; border-width: 1pt\; vertical-align: top\; width: 2.8729in\; padding: 4pt\;">\n			<p style="margin: 0in\; font-family: Calibri\; font-size: 10pt\; text-align: center\;"><span style="font-size: 14px\;"><span style="font-family: arial\;">General Admission/Future Members of the Palm Beach North Chamber of Commerce</span></span></p>\n			</td>\n		</tr>\n		<tr>\n			<td style="border-style: solid\; border-color: rgb(163\, 163\, 163)\; border-width: 1pt\; vertical-align: top\; width: 0.9562in\; padding: 4pt\;">\n			<p style="margin: 0in\; font-family: Calibri\; font-size: 10pt\; text-align: center\;"><span style="font-size: 14px\;"><span style="font-family: arial\;"><span style="font-weight: bold\;">Early Bird</span></span></span></p>\n\n			<p style="margin: 0in\; font-family: Calibri\; font-size: 10pt\; text-align: center\;"><span style="font-size: 14px\;"><span style="font-family: arial\;"><span style="font-style: italic\;">Before May 1\, 2026</span></span></span></p>\n			</td>\n			<td style="border-style: solid\; border-color: rgb(163\, 163\, 163)\; border-width: 1pt\; vertical-align: top\; width: 2.1319in\; padding: 4pt\;">\n			<p style="margin: 0in\; font-family: Calibri\; font-size: 10pt\; text-align: center\;"><span style="font-size: 14px\;"><span style="font-family: arial\;">$199</span></span></p>\n			</td>\n			<td style="border-style: solid\; border-color: rgb(163\, 163\, 163)\; border-width: 1pt\; vertical-align: top\; width: 2.7687in\; padding: 4pt\;">\n			<p style="margin: 0in\; font-family: Calibri\; font-size: 10pt\; text-align: center\;"><span style="font-size: 14px\;"><span style="font-family: arial\;">$249</span></span></p>\n			</td>\n		</tr>\n		<tr>\n			<td style="border-style: solid\; border-color: rgb(163\, 163\, 163)\; border-width: 1pt\; vertical-align: top\; width: 0.975in\; padding: 4pt\;">\n			<p style="margin: 0in\; font-family: Calibri\; font-size: 10pt\; text-align: center\;"><span style="font-size: 14px\;"><span style="font-family: arial\;"><span style="font-weight: bold\;">Regular Pricing</span></span></span></p>\n\n			<p style="margin: 0in\; font-family: Calibri\; font-size: 10pt\; text-align: center\;"><span style="font-size: 14px\;"><span style="font-family: arial\;"><span style="font-style: italic\;">Before July 31\, 2026</span></span></span></p>\n			</td>\n			<td style="border-style: solid\; border-color: rgb(163\, 163\, 163)\; border-width: 1pt\; vertical-align: top\; width: 2.1319in\; padding: 4pt\;">\n			<p style="margin: 0in\; font-family: Calibri\; font-size: 10pt\; text-align: center\;"><span style="font-size: 14px\;"><span style="font-family: arial\;">$249</span></span></p>\n			</td>\n			<td style="border-style: solid\; border-color: rgb(163\, 163\, 163)\; border-width: 1pt\; vertical-align: top\; width: 2.7687in\; padding: 4pt\;">\n			<p style="margin: 0in\; font-family: Calibri\; font-size: 10pt\; text-align: center\;"><span style="font-size: 14px\;"><span style="font-family: arial\;">$299</span></span></p>\n			</td>\n		</tr>\n		<tr>\n			<td style="border-style: solid\; border-color: rgb(163\, 163\, 163)\; border-width: 1pt\; vertical-align: top\; width: 0.9652in\; padding: 4pt\;">\n			<p style="margin: 0in\; font-family: Calibri\; font-size: 10pt\; text-align: center\;"><span style="font-size: 14px\;"><span style="font-family: arial\;"><span style="font-weight: bold\;">Full Pricing</span></span></span></p>\n\n			<p style="margin: 0in\; font-family: Calibri\; font-size: 10pt\; text-align: center\;"><span style="font-size: 14px\;"><span style="font-family: arial\;"><span style="font-style: italic\;">Before October 1\, 2026</span></span></span></p>\n			</td>\n			<td style="border-style: solid\; border-color: rgb(163\, 163\, 163)\; border-width: 1pt\; vertical-align: top\; width: 2.1319in\; padding: 4pt\;">\n			<p style="margin: 0in\; font-family: Calibri\; font-size: 10pt\; text-align: center\;"><span style="font-size: 14px\;"><span style="font-family: arial\;">$279</span></span></p>\n			</td>\n			<td style="border-style: solid\; border-color: rgb(163\, 163\, 163)\; border-width: 1pt\; vertical-align: top\; width: 2.7687in\; padding: 4pt\;">\n			<p style="margin: 0in\; font-family: Calibri\; font-size: 10pt\; text-align: center\;"><span style="font-size: 14px\;"><span style="font-family: arial\;">$329</span></span></p>\n			</td>\n		</tr>\n	</tbody>\n</table>\n</div>\n<span style="font-size: 12px\;"><span style="font-size: 14px\;"><span style="font-family: arial\;"><em>Need a payment plan? Reach out to&nbsp\;<a href="mailto:Caitlyn@pbnchamber.com?subject=Payment%20plan%3A%20Mentorship%20Academy%2C%20Presented%20by%20Lickstein%20Plastic%20Surgery">Caitlyn@pbnchamber.com</a>&nbsp\;to inquire.&nbsp\;</em></span><br />\n<br />\n<em>*Financial assistance is available through scholarships. Please reach out to <a href="mailto:Deadline to participate is Thursday\, April 10th at 12 noon.   Members of the Palm Beach North Chamber of Commerce  General Admission/Future Members of the Palm Beach North Chamber of Commerce  Early Bird  Before January 16\, 2025  $199  $249  Regular Pricing  Before March 13\, 2025  $249  $299  Full Pricing  Before April 10\, 2025  $279  $329  Need a payment plan? Reach out to Brittany@pbnchamber.com to inquire.   *Financial assistance is available through scholarships. Please fill out this form to be considered (DUE BY 3/13/25 at 12 PM).?subject=Financial%20Assistance%20for%20WIBC%20Mentorship%20Academy">caitlyn@pbnchamber.com</a>&nbsp\;to be considered (<span style="color: rgb(255\, 0\, 0)\;">DUE BY 9/25/26 at 12 PM</span>).</em></span></span></div>\n</div>\n</div>\n
LOCATION:
UID:e.727.58523
SEQUENCE:3
DTSTAMP:20260423T221329Z
URL:https://members.pbnchamber.com/events/details/mentee-registration-for-the-women-in-business-2026-mentorship-academy-presented-by-lickstein-plastic-surgery-58523
END:VEVENT

END:VCALENDAR
