BEGIN:VCALENDAR
VERSION:2.0
PRODID:-//ChamberMaster//Event Calendar 2.0//EN
METHOD:PUBLISH
X-PUBLISHED-TTL:P3D
REFRESH-INTERVAL:P3D
CALSCALE:GREGORIAN
BEGIN:VEVENT
DTSTART:20260310T153000Z
DTEND:20260310T173000Z
X-MICROSOFT-CDO-ALLDAYEVENT:FALSE
SUMMARY:Mujeres de Impacto Luncheon
DESCRIPTION:The Mujeres de Impacto Luncheon is an event aimed at recognizing women in Palm Beach County who demonstrate exceptional leadership\, innovation or commitment that supports the community that empowers others and creates meaningful change.\n\nAt the heart of the luncheon is the presentation of the inaugural VIDA Award. The word VIDA means LIFE in Spanish and reflects the essence of this distinguished honor. Each letter carries special significance: V is for Valiente (Brave)\, I is for Influencia (Influence)\, D is for de Damas (of Ladies)\, and A is for Admirables (Admirable). Together\, these elements recognize admirable women whose courage\, leadership\, and influence create a lasting impact and strengthen the communities in which we live.\n\nThis year\, HHRC is proud to recognize Julie Kime as the inaugural VIDA Award recipient. Through her unwavering support of the Hispanic community and her broader commitment to service\, Julie has driven meaningful and enduring change. Join us as we celebrate the Vida of Julie Kime and honor a legacy of leadership\, compassion\, and impact.
X-ALT-DESC;FMTTYPE=text/html:The Mujeres de Impacto Luncheon is an event aimed at recognizing women in Palm Beach County who demonstrate exceptional leadership\, innovation or commitment that supports the community that empowers others and creates meaningful change.<br />\nAt the heart of the luncheon is the presentation of the inaugural <strong>VIDA Award</strong>. The word <em>VIDA</em> means <em>LIFE</em> in Spanish and reflects the essence of this distinguished honor. Each letter carries special significance: <strong>V</strong> is for <em>Valiente</em> (Brave)\, <strong>I</strong> is for <em>Influencia</em> (Influence)\, <strong>D</strong> is for <em>de Damas</em> (of Ladies)\, and <strong>A</strong> is for <em>Admirables (</em>Admirable<em>)</em>. Together\, these elements recognize admirable women whose courage\, leadership\, and influence create a lasting impact and strengthen the communities in which we live.<br />\nThis year\, HHRC is proud to recognize <em>Julie Kime</em> as the inaugural <strong>VIDA Award</strong> recipient. Through her unwavering support of the Hispanic community and her broader commitment to service\, Julie has driven meaningful and enduring change. Join us as we celebrate the <em>Vida</em> of Julie Kime and honor a legacy of leadership\, compassion\, and impact.
LOCATION:West Palm Beach Marriott 1001 Okeechobee BoulevardWest Palm Beach\, FL\, 33401
UID:e.727.58521
SEQUENCE:3
DTSTAMP:20260423T110521Z
URL:https://members.pbnchamber.com/events/details/mujeres-de-impacto-luncheon-58521
END:VEVENT

END:VCALENDAR
