BEGIN:VCALENDAR
VERSION:2.0
PRODID:-//ChamberMaster//Event Calendar 2.0//EN
METHOD:PUBLISH
X-PUBLISHED-TTL:P3D
REFRESH-INTERVAL:P3D
CALSCALE:GREGORIAN
BEGIN:VEVENT
DTSTART:20210309T130000Z
DTEND:20210309T140000Z
X-MICROSOFT-CDO-ALLDAYEVENT:FALSE
SUMMARY:Successful Connections: Chamber 101
DESCRIPTION:The Palm Beach North Chamber of Commerce invites all current members to a complimentary Best Practices and Networking Training session. Attendees will receive information about how to best activate their relationships in the Chamber. In addition\, we will review the various ways members can engage with our Chamber to ensure they are capitalizing on their membership.*\n\n\n\n*Reserved as an educational benefit of being an active and current member of the Palm Beach North Chamber of Commerce
X-ALT-DESC;FMTTYPE=text/html:<span style="background:white\;"><span style="color:black\;"><span style="font-family:arial\,sans-serif\;"><span style="font-size:14px\;"><span style="font-family:arial\;">The Palm Beach North Chamber of Commerce invites all current members to&nbsp\;a complimentary&nbsp\;Best Practices and Networking Training session. Attendees will receive information about how to best activate their relationships in the Chamber. In addition\, we will review the various ways members can engage with our Chamber to ensure they are capitalizing on their membership.*</span></span><br />\n<br />\n<em><span style="font-size:14px\;"><span style="font-family:arial\;">*Reserved as an educational benefit of being an active and current member of the Palm Beach North Chamber of Commerce&nbsp\;</span></span></em></span></span></span>
LOCATION:Virtual Via Zoom Video Conferencing (receive after registration)
UID:e.727.25760
SEQUENCE:3
DTSTAMP:20260424T062143Z
URL:https://members.pbnchamber.com/events/details/new-event-successful-connections-chamber-101-03-09-2021-25760
END:VEVENT

END:VCALENDAR
