BEGIN:VCALENDAR
VERSION:2.0
PRODID:-//ChamberMaster//Event Calendar 2.0//EN
METHOD:PUBLISH
X-PUBLISHED-TTL:P3D
REFRESH-INTERVAL:P3D
CALSCALE:GREGORIAN
BEGIN:VEVENT
DTSTART:20200329T130000Z
DTEND:20200329T153000Z
X-MICROSOFT-CDO-ALLDAYEVENT:FALSE
SUMMARY:NewSound Church
DESCRIPTION:NewSound is a church with locations in Wellington and Jupiter meeting at 9:00 & 10:30 AM\, every Sunday. We exist to Develop Followers of Jesus who are building their families and their futures on purpose. Our pastor\, Josh Mauney\, has served in ministry all over the country and was the National Director of Church Planting for the Association of Related Churches (ARC). He and his family also started and pastored a church in Lexington\, Kentucky before moving to South Florida to start NewSound. For more information you can connect with us at info@newsound.church or check out our website at www.newsound.church. We would love for you to come check us out!
X-ALT-DESC;FMTTYPE=text/html:<span style="background-color:rgb(255\, 255\, 255)\; color:rgb(28\, 30\, 33)\; font-family:georgia\,serif\; font-size:17px">NewSound is a church with locations in Wellington and Jupiter meeting at 9:00 &amp\; 10:30 AM\, every Sunday. We exist to Develop Followers of Jesus who are building their families and their futures on purpose. Our pastor\, Josh Mauney\, has served in ministry all over the country and was the National Director of Church Planting for the Association of Related Churches (ARC). He and his family also started and pastored a church in Lexington\, Kentucky before moving to South Florida to start NewSound. For more information you can connect with us at info@newsound.church or check out our website at </span><a href="https://l.facebook.com/l.php?u=http%3A%2F%2Fwww.newsound.church%2F%3Ffbclid%3DIwAR3ehJooQqDHqycjx6Fl3Fiali6fTqCke1ozdo0mOOZbN6b0rDtadDnOaeE&amp\;h=AT36U2LOME3Fquxokc9YmLC-9DulfabfVqG6_Z7O613biCPcEtINHW4eHzqFD8HO3rv0FiQ0MjGeETLFsMEpa_ATh_Ptn5LAeT4UsqeemkXFoedIvgmA4mkj9B-jQ4jz6iXNFpgY" rel="noopener nofollow" style="color: rgb(56\, 88\, 152)\; cursor: pointer\; text-decoration-line: none\; font-family: Georgia\, serif\; font-size: 17px\; white-space: pre-wrap\; background-color: rgb(255\, 255\, 255)\;" target="_blank">www.newsound.church</a><span style="background-color:rgb(255\, 255\, 255)\; color:rgb(28\, 30\, 33)\; font-family:georgia\,serif\; font-size:17px">. We would love for you to come check us out!</span>
LOCATION:Jupiter Location - 13601 N Military Trail\, Palm Beach Gardens\, FL\, 33418 Wellington Location - 2101 Greenview Shores Blvd\, Wellington\, FL 33414
UID:e.727.25338
SEQUENCE:3
DTSTAMP:20260419T122453Z
URL:https://members.pbnchamber.com/events/details/newsound-church-03-29-2020-25338
END:VEVENT

END:VCALENDAR
