BEGIN:VCALENDAR
VERSION:2.0
PRODID:-//ChamberMaster//Event Calendar 2.0//EN
METHOD:PUBLISH
X-PUBLISHED-TTL:P3D
REFRESH-INTERVAL:P3D
CALSCALE:GREGORIAN
BEGIN:VEVENT
DTSTART:20210918T143000Z
DTEND:20210918T183000Z
X-MICROSOFT-CDO-ALLDAYEVENT:FALSE
SUMMARY:Reef Cleanup
DESCRIPTION:We will do a reef cleanup at Phil Foster Park to participate in International Coastal Cleanup Day while the other team is cleaning up the beach. We will be there from 10am until 2:30pm. This is a great opportunity to get community service hours. International Coastal Cleanup Day (ICCD) is one of the world's largest annual preservation and protection events and volunteer efforts.
X-ALT-DESC;FMTTYPE=text/html:We will do a reef cleanup at Phil Foster Park to participate in International Coastal Cleanup Day while the other team is cleaning up the beach. We will be there from 10am until 2:30pm. This is a great opportunity to get community service hours. International Coastal Cleanup Day (ICCD) is one of the world&#39\;s largest annual preservation and protection events and volunteer efforts.
LOCATION:Phil Foster Park 900 Blue Heron Blvd Riviera Beach\, FL 33404 Register at https://bit.ly/2021-Reef-Cleanup
UID:e.727.29415
SEQUENCE:3
DTSTAMP:20260423T181318Z
URL:https://members.pbnchamber.com/events/details/reef-cleanup-29415
END:VEVENT

END:VCALENDAR
