BEGIN:VCALENDAR
VERSION:2.0
PRODID:-//ChamberMaster//Event Calendar 2.0//EN
METHOD:PUBLISH
X-PUBLISHED-TTL:P3D
REFRESH-INTERVAL:P3D
CALSCALE:GREGORIAN
BEGIN:VEVENT
DTSTART:20150322T000000Z
DTEND:20150322T020000Z
X-MICROSOFT-CDO-ALLDAYEVENT:FALSE
SUMMARY:SOUSA 2015
DESCRIPTION:Marching into March is John Philips Sousa when the 40-piece New Gardens Band Conductor Owen Seward portrays the famous bandmaster at its annual Sousa extravaganza. This trademark concert features the Sousa library in the style and costumes of the early 20th century\, and includes virtuoso soloists\, singers and surprises just the way the great bandmaster presented them.
X-ALT-DESC;FMTTYPE=text/html:Marching into March is John Philips Sousa when the 40-piece New Gardens Band Conductor Owen Seward portrays the famous bandmaster at its annual Sousa extravaganza. This trademark concert features the Sousa library in the style and costumes of the early 20th century\, and includes virtuoso soloists\, singers and surprises just the way the great bandmaster presented them.
LOCATION:Eissey Campus Theatre 11051 Campus Drive Palm Beach Gardens
UID:e.727.5770
SEQUENCE:3
DTSTAMP:20260421T124312Z
URL:https://members.pbnchamber.com/events/details/sousa-2015-03-21-2015-5770
END:VEVENT

END:VCALENDAR
