BEGIN:VCALENDAR
VERSION:2.0
PRODID:-//ChamberMaster//Event Calendar 2.0//EN
METHOD:PUBLISH
X-PUBLISHED-TTL:P3D
REFRESH-INTERVAL:P3D
CALSCALE:GREGORIAN
BEGIN:VEVENT
DTSTART:20260427T220000Z
DTEND:20260428T010000Z
X-MICROSOFT-CDO-ALLDAYEVENT:FALSE
SUMMARY:Southern Sips Bartending Competition Fueled by Munyon's Paw-Paw
DESCRIPTION:Last year our guests made Southern Sips Bartending Competition a great (albeit slightly wet) event\, so we're bringing it back.  Save the Date  Monday\, April 27th 2026\, 6-9 p.m.  Tickets are already available for sale here:  https://www.nourishingfoodforthought.org/southernsips\n\nWe created this event because our good friend Suzie had been renovating her farm "The Jupiter Creamery" and needed a local event to show off the incredible work she's done.  The farm is the heart of Suzie's Charity\, "Nourishing Food for Thought" with a mission to cultivate vibrant and resilient communities through a holistic approach to food\, wellness\, and education. All proceeds will go to the charity.  All Fun will be dispersed among the crowd. \n\nWe're tweaking some things to make this even better in 2026. The 4 competitors will be batching a cocktail and serving drinks for the event.  Anonymous judges will be in the crowd\, just like the guests\, observing the total package it's not just about who makes the best cocktail it's about who is the best bartender providing the best overall experience.  \n\nIf you know a bartender who might be interested in competing\, have them watch this video on how to enter https://www.instagram.com/reel/DT2JkavDlpV/?utm_source=ig_web_copy_link&igsh=MzRlODBiNWFlZA==\n\nWe're also adding a theme.  Given you'll be enjoying some cocktails next to the cow pastures\, we're making this a Western theme!  \n\nWe'll have music\, food trucks\, great brands\, we'll have a blast  AND\, we'll be doing it all for a local cause.  In addition to all the cocktails you'll get\, we'll have chances to win prizes with our raffles \n\nGet this on your calendar to finish out our local season.  Come see your favorite local bartenders and your favorite brands.  HUGE THANKS to this year's participating brands!!!\n\nEl Bandido Yankee Tequila\n\nWeber Ranch Vodka\n\nSt. Augustine Whiskey\n\nRevenge Rum\n\n \n\nAnd our friends at Oceana Coffee will be there providing some non-alc beverages as well.
X-ALT-DESC;FMTTYPE=text/html:<span style="font-size:11.0pt">Last year our guests made Southern Sips Bartending Competition a great (albeit slightly wet) event\, so we&rsquo\;re bringing it back.&nbsp\; <strong>Save the Date&hellip\; Monday\, April 27<sup>th</sup> 2026\,</strong> <strong>6-9 p.m.</strong>&nbsp\; <strong><em>Tickets are already available for sale here</em></strong>:&nbsp\; <a href="https://www.nourishingfoodforthought.org/southernsips">https://www.nourishingfoodforthought.org/southernsips</a></span><br />\n<span style="font-size:11.0pt">We created this event because our good friend Suzie had been renovating her farm &ldquo\;The Jupiter Creamery&rdquo\; and needed a local event to show off the incredible work she&rsquo\;s done.&nbsp\; The farm is the heart of Suzie&rsquo\;s Charity\, &ldquo\;Nourishing Food for Thought&rdquo\; with a mission&nbsp\;to cultivate vibrant and resilient communities through a holistic approach to food\, wellness\, and education. All proceeds will go to the charity.&nbsp\; All Fun will be dispersed among the crowd. </span><br />\n<span style="font-size:11.0pt">We&rsquo\;re tweaking some things to make this even better in 2026. The 4 competitors will be batching a cocktail and serving drinks for the event.&nbsp\; Anonymous judges will be in the crowd\, just like the guests\, observing the total package&hellip\;it&rsquo\;s not just about who makes the best cocktail&hellip\;it&rsquo\;s about who is the best bartender providing the best overall experience.&nbsp\; </span><br />\n<span style="font-size:11.0pt">If you know a bartender who might be interested in competing\, have them watch this video on how to enter <a href="https://www.instagram.com/reel/DT2JkavDlpV/?utm_source=ig_web_copy_link&amp\;igsh=MzRlODBiNWFlZA==">https://www.instagram.com/reel/DT2JkavDlpV/?utm_source=ig_web_copy_link&amp\;igsh=MzRlODBiNWFlZA==</a></span><br />\n<span style="font-size:11.0pt">We&rsquo\;re also adding a theme.&nbsp\; Given you&rsquo\;ll be enjoying some cocktails next to the cow pastures\, we&rsquo\;re making this a Western theme!&nbsp\; </span><br />\n<span style="font-size:11.0pt">We&rsquo\;ll have music\, food trucks\, great brands\, we&rsquo\;ll have a blast&hellip\; AND\, we&rsquo\;ll be doing it all for a local cause.&nbsp\; In addition to all the cocktails you&rsquo\;ll get\, we&rsquo\;ll have chances to win prizes with our raffles&hellip\;</span><br />\n<span style="font-size:11.0pt">Get this on your calendar to finish out our local season.&nbsp\; Come see your favorite local bartenders and your favorite brands.&nbsp\; HUGE THANKS to this year&rsquo\;s participating brands!!!</span><br />\n<strong><em><span style="font-size:11.0pt">El Bandido Yankee Tequila</span></em></strong><br />\n<strong><em><span style="font-size:11.0pt">Weber Ranch Vodka</span></em></strong><br />\n<strong><em><span style="font-size:11.0pt">St. Augustine Whiskey</span></em></strong><br />\n<strong><em><span style="font-size:11.0pt">Revenge Rum</span></em></strong><br />\n&nbsp\;<br />\n<span style="font-size:11.0pt">And our friends at <strong><em>Oceana Coffee</em></strong> will be there providing some non-alc beverages as well.&nbsp\; &nbsp\;</span>
LOCATION:Jupiter Creamery 18591 131st Trail North Jupiter\, Florida 33478
UID:e.727.58729
SEQUENCE:3
DTSTAMP:20260422T060047Z
URL:https://members.pbnchamber.com/events/details/southern-sips-bartending-competition-fueled-by-munyon-s-paw-paw-58729
END:VEVENT

END:VCALENDAR
