BEGIN:VCALENDAR
VERSION:2.0
PRODID:-//ChamberMaster//Event Calendar 2.0//EN
METHOD:PUBLISH
X-PUBLISHED-TTL:P3D
REFRESH-INTERVAL:P3D
CALSCALE:GREGORIAN
BEGIN:VEVENT
DTSTART:20211031T130000Z
DTEND:20211031T200000Z
X-MICROSOFT-CDO-ALLDAYEVENT:FALSE
SUMMARY:Sports Card Show at PBKC\, Second Floor
DESCRIPTION:Event: Sports Card Show at PBKC\, Second Floor\n\nDate: Sunday\, October 31\, 2021\n\nTime: 9am-4pm\n\nLocation: PBKC\, Second-Floor\, 1111 N. Congress Ave.\, West Palm Beach\, FL 33409\n\nDirections: Take I-95 to Belvedere Road\, then go west 1 mile to Congress Ave. PBKC is located at the corner of Congress and Belvedere Rd.\n\nPhone: 561.683.2222\n\nCost: Free Admission\n\nHappenings: \n\n \n\n IT'S GOING TO BE A SPOOKTACULAR EVENT!\n\nPBKC SPORTS CARD SHOW RETURNS SUNDAY\, OCTOBER 31!\n\nPBKC IS THE HOME OF SOUTH FLORIDA'S PREMIER SPORTS CARD & MEMORABILIA SHOWS!\n\nOVER 60 VENDORS FEATURING A VARITEY OF COLLECTABLE ITEMS   FOR SALE OR TO BUY - FROM ALL DIFFERENT GENRES OF SPORTS AND POP CULTURE!\n\n \n\n            Come on out for PBKC's monthly Sports Card show and join the ranks of the thousands of guests who have attended the last four months. September's event was as popular as ever and this go around will be an interesting one to attend being on Halloween!\n\n \n\n	Sports Cards & Memorabilia to Buy\, Sell\, Trade\, Barter & much more\n	ESPN 106.3FM Broadcasting Live (10am-11am) with Chris Kokell & J-Mart and special guests\n	Enjoy all your Sunday sports action on our big screen TVs\n	Free Admission\n	Door Prizes\n	Great Food\n	Full Bars\n	Plenty of Free Parking\n	Featuring Signed Icon Sports Cards & Collectibles\n\n \n\n\n	Vendor space available\, contact Jesse at signedicon.com for more information
X-ALT-DESC;FMTTYPE=text/html:<strong><span style="font-family:calibri\,sans-serif">Event: Sports Card Show at PBKC\, Second Floor</span></strong><br />\n<strong><span style="font-family:calibri\,sans-serif">Date: </span></strong><span style="font-family:calibri\,sans-serif">Sunday\, October 31\, 2021</span><br />\n<strong><span style="font-family:calibri\,sans-serif">Time: </span></strong><span style="font-family:calibri\,sans-serif">9am-4pm</span><br />\n<strong><span style="font-family:calibri\,sans-serif">Location: </span></strong><span style="font-family:calibri\,sans-serif">PBKC\, Second-Floor\, 1111 N. Congress Ave.\, West Palm Beach\, FL 33409</span><br />\n<strong><span style="font-family:calibri\,sans-serif">Directions: </span></strong><span style="font-family:calibri\,sans-serif">Take I-95 to Belvedere Road\, then go west 1 mile to Congress Ave. PBKC is located at the corner of Congress and Belvedere Rd.</span><br />\n<strong><span style="font-family:calibri\,sans-serif">Phone: </span></strong><span style="font-family:calibri\,sans-serif">561.683.2222</span><br />\n<strong><span style="font-family:calibri\,sans-serif">Cost:</span></strong><span style="font-family:calibri\,sans-serif"> Free Admission</span><br />\n<strong><span style="font-family:calibri\,sans-serif">Happenings: </span></strong><br />\n&nbsp\;<br />\n<strong><span style="font-family:calibri\,sans-serif">&nbsp\;IT&rsquo\;S GOING TO BE A SPOOKTACULAR EVENT!</span></strong><br />\n<strong><span style="font-family:calibri\,sans-serif">PBKC SPORTS CARD SHOW RETURNS SUNDAY\, OCTOBER 31!</span></strong><br />\n<strong><span style="font-family:calibri\,sans-serif">PBKC IS THE HOME OF SOUTH FLORIDA&rsquo\;S PREMIER SPORTS CARD &amp\; MEMORABILIA SHOWS!</span></strong><br />\n<strong><span style="font-family:calibri\,sans-serif">OVER 60 VENDORS FEATURING A VARITEY OF COLLECTABLE ITEMS &ndash\; FOR SALE OR TO BUY - FROM ALL DIFFERENT GENRES OF SPORTS AND POP CULTURE!</span></strong><br />\n&nbsp\;<br />\n&nbsp\;&nbsp\;&nbsp\;&nbsp\;&nbsp\;&nbsp\;&nbsp\;&nbsp\;&nbsp\;&nbsp\;&nbsp\; <span style="font-family:calibri\,sans-serif">Come on out for PBKC&rsquo\;s monthly Sports Card show and join the ranks of the thousands of guests who have attended the last four months.&nbsp\;September&rsquo\;s event was as popular as ever and this go around will be an interesting one to attend being on Halloween!</span><br />\n&nbsp\;\n<ul>\n	<li><span style="font-family:calibri\,sans-serif">Sports Cards &amp\; Memorabilia to Buy\, Sell\, Trade\, Barter &amp\; much more</span></li>\n	<li><span style="font-family:calibri\,sans-serif">ESPN 106.3FM Broadcasting Live (10am-11am) with Chris Kokell &amp\; J-Mart and special guests</span></li>\n	<li><span style="font-family:calibri\,sans-serif">Enjoy all your Sunday sports action on our big screen TVs</span></li>\n	<li><span style="font-family:calibri\,sans-serif">Free Admission</span></li>\n	<li><span style="font-family:calibri\,sans-serif">Door Prizes</span></li>\n	<li><span style="font-family:calibri\,sans-serif">Great Food</span></li>\n	<li><span style="font-family:calibri\,sans-serif">Full Bars</span></li>\n	<li><span style="font-family:calibri\,sans-serif">Plenty of Free Parking</span></li>\n	<li><span style="font-family:calibri\,sans-serif">Featuring Signed Icon Sports Cards &amp\; Collectibles</span></li>\n</ul>\n&nbsp\;\n\n<ul>\n	<li><span style="font-family:calibri\,sans-serif">Vendor space available\, contact Jesse at </span><a href="mailto:signedicon@gmail.com"><span style="font-family:calibri\,sans-serif">signedicon.com</span></a><span style="font-family:calibri\,sans-serif"> for more information</span></li>\n</ul>\n
LOCATION:Location: PBKC\, Second-Floor\, 1111 N. Congress Ave.\, West Palm Beach\, FL 33409 Directions: Take I-95 to Belvedere Road\, then go west 1 mile to Congress Ave. PBKC is located at the corner of Congress and Belvedere Rd.
UID:e.727.29534
SEQUENCE:3
DTSTAMP:20260424T203115Z
URL:https://members.pbnchamber.com/events/details/sports-card-show-at-pbkc-second-floor-29534
END:VEVENT

END:VCALENDAR
