BEGIN:VCALENDAR
VERSION:2.0
PRODID:-//ChamberMaster//Event Calendar 2.0//EN
METHOD:PUBLISH
X-PUBLISHED-TTL:P3D
REFRESH-INTERVAL:P3D
CALSCALE:GREGORIAN
BEGIN:VEVENT
DTSTART:20260514T220000Z
DTEND:20260515T000000Z
X-MICROSOFT-CDO-ALLDAYEVENT:FALSE
SUMMARY:Taste of Africa 2026
DESCRIPTION:Embark on an unforgettable journey through Africa. Enjoy a night filled with authentic traditions and language\, mesmerizing sights\, and mouth-watering culinary delights from this incredible continent.\n\nIndulge in a feast of flavors with dishes like Harissa\, Berbere\, Baharat\, Chakalaka\, Peri Peri\, and Za'atar. Each bite taking you on a sensory adventure\, with tastes that are earthy\, spicy\, warming\, smoky\, bold\, peppery\, floral\, complex\, and vibrant.\n\nFeel the rhythm of Africa with live drumming that will stir your soul. Explore Africa-inspired themes and activities while hearing the personal experiences of those who have just returned from their first or latest trek to the great continent. All net proceeds from "Taste Of Africa" benefit African Orphan Educational Foundation\, a nonprofit organization supporting the educational and personal development needs of orphaned\, abandoned\, and vulnerable children in Africa..
X-ALT-DESC;FMTTYPE=text/html:<p>Embark on an unforgettable journey through Africa.&nbsp\;Enjoy&nbsp\;a night filled with&nbsp\;authentic traditions and&nbsp\;language\, mesmerizing sights\, and mouth-watering culinary delights from this incredible continent.</p>\n\n<p>Indulge in a feast of flavors with dishes like Harissa\, Berbere\, Baharat\, Chakalaka\, Peri&nbsp\;Peri\, and Za&rsquo\;atar. Each bite&nbsp\;taking&nbsp\;you on a sensory adventure\, with tastes that are earthy\, spicy\, warming\, smoky\, bold\, peppery\, floral\, complex\, and vibrant.</p>\n\n<p>Feel the rhythm of Africa with live drumming that will stir your soul. Explore Africa-inspired themes and activities while hearing the personal experiences of those who have just returned from their first or latest trek to the great continent.&nbsp\;All net proceeds from &quot\;Taste Of Africa&quot\; benefit African Orphan Educational Foundation\, a nonprofit organization supporting the educational and personal development needs of orphaned\, abandoned\, and vulnerable children in Africa..</p>\n
LOCATION:Sandhill Crane Golf Club 9500 Sandhill Crane Drive Palm Beach Gardens\, FL 33412
UID:e.727.58469
SEQUENCE:3
DTSTAMP:20260423T155240Z
URL:https://members.pbnchamber.com/events/details/taste-of-africa-2026-05-14-2026-58469
END:VEVENT

END:VCALENDAR
