BEGIN:VCALENDAR
VERSION:2.0
PRODID:-//ChamberMaster//Event Calendar 2.0//EN
METHOD:PUBLISH
X-PUBLISHED-TTL:P3D
REFRESH-INTERVAL:P3D
CALSCALE:GREGORIAN
BEGIN:VEVENT
DTSTART:20250209T220000Z
DTEND:20250210T040000Z
X-MICROSOFT-CDO-ALLDAYEVENT:FALSE
SUMMARY:The Big Game Watch Party at Taaza
DESCRIPTION:Join us to watch the big game at Taaza\, our beachside\, open-air restaurant!\n\n \n\nOur specialty menu will feature favorites from Kansas City and Philadelphia\, as well as a variety of grilled flatbreads and an all-star line up of burgers\, grilled wings and dips!\n\n \n\nFull bar available with the game projected on a large screen.\n\n \n\nComplimentary parking!
X-ALT-DESC;FMTTYPE=text/html:<p>Join us to watch the big game at Taaza\, our beachside\, open-air restaurant!</p>\n\n<p>&nbsp\;</p>\n\n<p>Our specialty menu will feature favorites from Kansas City and Philadelphia\, as well as a variety of grilled flatbreads and an all-star line up of burgers\, grilled wings and dips!</p>\n\n<p>&nbsp\;</p>\n\n<p>Full bar available with the game projected on a large screen.</p>\n\n<p>&nbsp\;</p>\n\n<p>Complimentary parking!</p>\n
LOCATION:
UID:e.727.49844
SEQUENCE:3
DTSTAMP:20260419T233926Z
URL:https://members.pbnchamber.com/events/details/the-big-game-watch-party-at-taaza-49844
END:VEVENT

END:VCALENDAR
