BEGIN:VCALENDAR
VERSION:2.0
PRODID:-//ChamberMaster//Event Calendar 2.0//EN
METHOD:PUBLISH
X-PUBLISHED-TTL:P3D
REFRESH-INTERVAL:P3D
CALSCALE:GREGORIAN
BEGIN:VEVENT
DTSTART:20260707T233000Z
DTEND:20260708T013000Z
X-MICROSOFT-CDO-ALLDAYEVENT:FALSE
SUMMARY:TORI AMOS — IN TIMES OF DRAGONS TOUR
DESCRIPTION:A pioneer across platforms\, TORI AMOS is a multiplatinum singer-songwriter\, pianist and composer. Her 18th studio album In Times of Dragons is due to release on May 1.\n\n\n\nRevered for building a multifaceted and unifying career of work defined by fearless activism and otherworldly musicianship\, the new collection continues this storytelling tradition through a dynamic cast of characters.\n\n\n\nTori will support the album with an extensive U.S. summer tour\, kicking off in West Palm Beach at the Kravis Center!\n\n\n\nJoined by longtime collaborators Jon Evans (bass and music director) and Ash Soan (drums) plus the addition of three backing singers   Liv Gibson\, Deni Hlavinka and Hadley Kennary   Tori will perform songs from In Times of Dragons alongside highlights from across her illustrious 35-year career\, which has seen eight GRAMMY  nominations and over 12 million global album sales.
X-ALT-DESC;FMTTYPE=text/html:A pioneer across platforms\,&nbsp\;TORI AMOS&nbsp\;is a multiplatinum singer-songwriter\, pianist and composer. Her 18th studio album&nbsp\;In Times of Dragons&nbsp\;is due to release on May 1.<br />\n<br />\nRevered for building a multifaceted and unifying career of work defined by fearless activism and otherworldly musicianship\, the new collection continues this storytelling tradition through a dynamic cast of characters.<br />\n<br />\nTori will support the album with an extensive U.S. summer tour\,&nbsp\;kicking off in West Palm Beach&nbsp\;at the Kravis Center!<br />\n<br />\nJoined by longtime collaborators&nbsp\;Jon Evans&nbsp\;(bass and music director) and&nbsp\;Ash Soan&nbsp\;(drums) plus the addition of three backing singers &ndash\;&nbsp\;Liv Gibson\, Deni Hlavinka&nbsp\;and&nbsp\;Hadley Kennary&nbsp\;&ndash\; Tori will perform songs from&nbsp\;In Times of Dragons&nbsp\;alongside highlights from across her illustrious 35-year career\, which has seen eight GRAMMY&reg\; nominations and over 12 million global album sales.
LOCATION:Kravis Center for the Performing Arts 701 Okeechobee Boulevard West Palm Beach\, FL 33401
UID:e.727.58735
SEQUENCE:3
DTSTAMP:20260423T153959Z
URL:https://members.pbnchamber.com/events/details/tori-amos-in-times-of-dragons-tour-58735
END:VEVENT

END:VCALENDAR
