BEGIN:VCALENDAR
VERSION:2.0
PRODID:-//ChamberMaster//Event Calendar 2.0//EN
METHOD:PUBLISH
X-PUBLISHED-TTL:P3D
REFRESH-INTERVAL:P3D
CALSCALE:GREGORIAN
BEGIN:VEVENT
DTSTART:20200430T150000Z
DTEND:20200430T154500Z
X-MICROSOFT-CDO-ALLDAYEVENT:FALSE
SUMMARY:Virtual Business Seminar Series
DESCRIPTION:The Palm Beach North Chamber is determined to support its members during this time. One way we are doing this is by organizing and promoting "virtual events" that are beneficial to both the members producing and consuming them. Topics will vary so stay tuned for the updates! \n\nLet's continue to stay healthy\, educated and support one another while we live #TogetherApart. \n\n\n\nSchedule:\n\n\n\nTuesday\, March 24 Webinar: THE CRUCIAL STEPS & THINKING FOR WEATHERING MARKET DECLINES AND CRISIS\, hosted by Cary Stamp & Company\n\nRegister at bit.ly/Webinar_MarketDeclines \n\n**LIMITED TO 100 PARTICIPANTS**\n\nThursday\, March 26th Webinar: Home learning for kids - how to provide structure\, routine and keep it fun!\, hosted by Top Score Writing\n\nTuesday\, March 31st Webinar: 5 Ways to Survive and Possibly Thrive During These Uncertain Times\, hosted by ActionCOACH - AMB Performance Group\n\nThursday\, April 2nd Webinar: Estate Planning: An Act of Love\, hosted by Elder and Estate Planning Attorneys PA\n\nTuesday\, April 7th Webinar: Piling on the Home Work: Using technology to keep your people secure and productive during the outbreak\, hosted by I.T. Solutions South Florida\n\nThursday\, April 9th Webinar: Getting Ahead of the COVID-19 Post-Crisis Assessment\, hosted by Rand Strategic Solutions\n\nTuesday\, April 14th Webinar: Coronavirus Disease 2019 (COVID-19) Update: What Employers Need to Know Now\, hosted by Greenberg Traurig\n\nThursday\, April 16th Webinar: How To Protect Your Business in the Time of Corona\, hosted by Markarian & Hayes\n\nTuesday\, April 21st Webinar: Employment Assistance\, hosted by CareerSource Palm Beach County\n\nThursday\, April 23rd Webinar: Conversations You Should Be Having With Your Financial Advisor\, hosted by Townsend Financial Life Management\n\nTuesday\, April 28th Webinar: TBA\, hosted by JRC Consulting Group\n\nThursday\, April 30th Webinar: TBA
X-ALT-DESC;FMTTYPE=text/html:<p><span style="font-size:14px\;"><span style="font-family:arial\;"><span style="color: rgb(29\, 33\, 41)\; white-space: pre-wrap\;">The Palm Beach North Chamber is determined to support its members during this time. One way we are doing this is by organizing and promoting &quot\;virtual events&quot\; that are beneficial to both the members producing and consuming them. </span></span></span><span style="font-family: arial\; font-size: 14px\;">Topics will vary so stay tuned for the updates!&nbsp\;</span></p>\n\n<p><span style="font-family: arial\; font-size: 14px\;">Let&#39\;s continue to stay healthy\, educated and support one another while we live #TogetherApart.&nbsp\;</span><br />\n<br />\nSchedule:<br />\n<br />\n<strong>Tuesday\, March 24 Webinar</strong>: THE CRUCIAL STEPS &amp\; THINKING FOR WEATHERING MARKET DECLINES AND CRISIS\, hosted by&nbsp\;<a href="http://members.npbchamber.com/list/member/cary-stamp-company-9541">Cary Stamp &amp\; Company</a><br />\nRegister at <a href="https://zoom.us/webinar/register/WN__nw22g0kTH6mec0uQe2WEA">bit.ly/Webinar_MarketDeclines&nbsp\;</a><br />\n<span style="color:#FF0000\;">**LIMITED TO 100 PARTICIPANTS**</span><br />\n<strong>Thursday\, March 26th Webinar</strong>: Home learning for kids - how to provide structure\, routine and keep it fun!\, hosted by <a href="http://members.npbchamber.com/list/member/top-score-writing-inc-17198">Top Score Writing</a><br />\n<strong>Tuesday\, March 31st Webinar</strong>: 5 Ways to Survive and Possibly Thrive During These Uncertain Times\, hosted by <a href="http://members.npbchamber.com/list/member/actioncoach-amb-performance-group-17175">ActionCOACH - AMB Performance Group</a><br />\n<strong>Thursday\, April 2nd Webinar</strong>: Estate Planning: An Act of Love\, hosted by <a href="http://members.npbchamber.com/list/member/elder-estate-planning-attorneys-pa-5025">Elder and Estate Planning Attorneys PA</a><br />\n<strong>Tuesday\, April 7th Webinar: </strong>Piling on the Home Work: Using technology to keep your people secure and productive during the outbreak\, hosted by&nbsp\;<a href="http://members.npbchamber.com/list/member/i-t-solutions-of-south-florida-inc-7628">I.T. Solutions South Florida</a><br />\n<strong>Thursday\, April 9th Webinar:&nbsp\;</strong>Getting Ahead of the COVID-19 Post-Crisis Assessment\, hosted by&nbsp\;<a href="http://members.npbchamber.com/list/member/rand-strategic-solutions-llc-16780">Rand Strategic Solutions</a><br />\n<strong>Tuesday\, April 14th Webinar:&nbsp\;</strong>Coronavirus Disease 2019 (COVID-19) Update: What Employers Need to Know Now\, hosted by&nbsp\;<a href="http://members.npbchamber.com/list/member/greenberg-traurig-8971">Greenberg Traurig</a><br />\n<strong>Thursday\, April 16th Webinar:&nbsp\;</strong>How To Protect Your Business in the Time of Corona\, hosted by <a href="http://members.npbchamber.com/list/member/markarian-hayes-10070">Markarian &amp\; Hayes</a><br />\n<strong>Tuesday\, April 21st Webinar:&nbsp\;</strong>Employment Assistance\, hosted by&nbsp\;<a href="http://members.npbchamber.com/list/member/careersource-palm-beach-county-693">CareerSource Palm Beach County</a><br />\n<strong>Thursday\, April 23rd Webinar: </strong>Conversations You Should Be Having With Your Financial Advisor\, hosted by&nbsp\;<a href="http://members.npbchamber.com/list/member/townsend-financial-life-management-17113">Townsend Financial Life Management</a><br />\n<strong>Tuesday\, April 28th Webinar:&nbsp\;</strong>TBA\, hosted by <a href="http://members.npbchamber.com/list/member/jrc-consulting-group-jupiter-13372">JRC Consulting Group</a><br />\n<strong>Thursday\, April 30th Webinar:&nbsp\;</strong>TBA</p>\n
LOCATION:Check our Facebook for each session : March 24th - Registration Required **LIMITED PARTICIPATION** March 26th - Join us on Facebook LIVE March 31st - Join us on Facebook LIVE April 2nd - Registration Required April 7th - Registration Required April 9th - Registration Required April 14th - Registration Required April 16th - Registration Required April 21st - Registration Required April 23rd - Registration Required April 28th - Registration Required April 30th - Registration Required
UID:e.727.25560
SEQUENCE:3
DTSTAMP:20260423T041611Z
URL:https://members.pbnchamber.com/events/details/virtual-business-seminar-series-04-30-2020-25560
END:VEVENT

END:VCALENDAR
